BEGIN:VCALENDAR
VERSION:2.0
PRODID:-//ChamberMaster//Event Calendar 2.0//EN
METHOD:PUBLISH
X-PUBLISHED-TTL:P3D
REFRESH-INTERVAL:P3D
CALSCALE:GREGORIAN
BEGIN:VEVENT
DTSTART:20151006T210000Z
DTEND:20151006T230000Z
X-MICROSOFT-CDO-ALLDAYEVENT:FALSE
SUMMARY:Saratoga Young Professionals Network
DESCRIPTION:The Saratoga Young Professionals Network reconnect at Boca Bistro for an evening of networking. Join your fellow Chamber members at one of the most popular downtown spots while building business relations over hors d'oeuvres and drink specials. Cost is $10. Thank you to The Adirondack Trust Company for sponsoring the 2015 Saratoga Young Professionals Network.
X-ALT-DESC;FMTTYPE=text/html:The Saratoga Young Professionals Network reconnect at Boca Bistro for an evening of networking. Join your fellow Chamber members at one of the most popular downtown spots while building business relations over hors d&#39\;oeuvres and drink specials. Cost is $10. Thank you to The Adirondack Trust Company for sponsoring the 2015 Saratoga Young Professionals Network.&nbsp\; &nbsp\;
LOCATION:Boca Bistro 384 Broadway Saratoga Springs
UID:e.2254.12356
SEQUENCE:3
DTSTAMP:20260422T171258Z
URL:https://chamber.saratoga.org/events/details/saratoga-young-professionals-network-10-06-2015-12356
END:VEVENT

END:VCALENDAR
