BEGIN:VCALENDAR
VERSION:2.0
PRODID:-//ChamberMaster//Event Calendar 2.0//EN
METHOD:PUBLISH
X-PUBLISHED-TTL:P3D
REFRESH-INTERVAL:P3D
CALSCALE:GREGORIAN
BEGIN:VEVENT
DTSTART:20140909T200000Z
DTEND:20140909T220000Z
X-MICROSOFT-CDO-ALLDAYEVENT:FALSE
SUMMARY:Saratoga Young Professionals Network
DESCRIPTION:Panel Discussion about personal and professional life balanceEver find yourself overwhelmed and constantly feeling like you are stretched thin on time? As a young professional\, balancing your work responsibilities with your hobbies is a very difficult skill to develop. Panelists Dave Collins\, D.A. Collins Companies\; Bo Goliber\, FingerPaint Marketing and Mike Munter\, Munter Enterprises\, will discuss how you can help manage your work and personal time on a daily basis. In addition\, they will share how they have gotten to where they are now\, a brief background on their position and responsibilities\, as well as challenges that young professionals can face when getting their career started. Thank you to the Adirondack Trust Company for sponsoring the 2014 Saratoga Young Professionals Network.
X-ALT-DESC;FMTTYPE=text/html:<p>Panel Discussion about personal and professional life balance</p><p>Ever find yourself overwhelmed and constantly feeling like you are stretched thin on time? As a young professional\, balancing your work responsibilities with your hobbies is a very difficult skill to develop. Panelists Dave Collins\, D.A. Collins Companies\; Bo Goliber\, FingerPaint Marketing and Mike Munter\, Munter Enterprises\, will discuss how you can help manage your work and personal time on a daily basis. In addition\, they will share how they have gotten to where they are now\, a brief background on their position and responsibilities\, as well as challenges that young professionals can face when getting their career started. Thank you to the Adirondack Trust Company for sponsoring the 2014 Saratoga Young Professionals Network.</p>
LOCATION:Saratoga Eagle Sales & Service
UID:e.2254.562
SEQUENCE:3
DTSTAMP:20260424T125730Z
URL:https://chamber.saratoga.org/events/details/saratoga-young-professionals-network-09-09-2014-562
END:VEVENT

END:VCALENDAR
