BEGIN:VCALENDAR
VERSION:2.0
PRODID:-//ChamberMaster//Event Calendar 2.0//EN
METHOD:PUBLISH
X-PUBLISHED-TTL:P3D
REFRESH-INTERVAL:P3D
CALSCALE:GREGORIAN
BEGIN:VEVENT
DTSTART:20160607T210000Z
DTEND:20160607T230000Z
X-MICROSOFT-CDO-ALLDAYEVENT:FALSE
SUMMARY:Saratoga Young Professionals Network
DESCRIPTION:The Saratoga Young Professionals Network will meet at Blue Agave for their June networking mixer. Recently opened\, Blue Agave is best known for their tequila and Mexican cuisine. Come out and network with your fellow Chamber members while enjoying drink specials and complimentary food. Thank you to the Adirondack Trust Company for sponsoring the 2016 Saratoga Young Professionals Network.
X-ALT-DESC;FMTTYPE=text/html:The Saratoga Young Professionals Network will meet at Blue Agave for their June networking mixer. Recently opened\, Blue Agave is best known for their tequila and Mexican&nbsp\;cuisine. Come out and network with your fellow Chamber members while enjoying drink specials and complimentary food. Thank you to the Adirondack Trust Company for sponsoring the 2016 Saratoga Young Professionals Network.
LOCATION:Blue Agave 135 Crescent Street Saratoga Springs
UID:e.2254.16855
SEQUENCE:3
DTSTAMP:20260421T080412Z
URL:https://chamber.saratoga.org/events/details/saratoga-young-professionals-network-06-07-2016-16855
END:VEVENT

END:VCALENDAR
