BEGIN:VCALENDAR
VERSION:2.0
PRODID:-//ChamberMaster//Event Calendar 2.0//EN
METHOD:PUBLISH
X-PUBLISHED-TTL:P3D
REFRESH-INTERVAL:P3D
CALSCALE:GREGORIAN
BEGIN:VEVENT
DTSTART:20160405T210000Z
DTEND:20160405T230000Z
X-MICROSOFT-CDO-ALLDAYEVENT:FALSE
SUMMARY:Saratoga Young Professionals Network
DESCRIPTION:The Saratoga Young Professionals will meet for their monthly mixer at Harvey's Pub. Join your fellow young professionals for a night of networking\, food\, and drink specials. Thank you to The Adirondack Trust Company for sponsoring the 2016 Saratoga Young Professionals Network.
X-ALT-DESC;FMTTYPE=text/html:The Saratoga Young Professionals will meet for their monthly mixer at Harvey&#39\;s Pub. Join your fellow young professionals for a night of networking\, food\, and drink specials. Thank you to The Adirondack Trust Company for sponsoring the 2016 Saratoga Young Professionals Network.&nbsp\;&nbsp\;
LOCATION:Harvey's Pub 14 Phila Street Saratoga Springs
UID:e.2254.15387
SEQUENCE:3
DTSTAMP:20260421T163819Z
URL:https://chamber.saratoga.org/events/details/saratoga-young-professionals-network-04-05-2016-15387
END:VEVENT

END:VCALENDAR
