BEGIN:VCALENDAR
VERSION:2.0
PRODID:-//ChamberMaster//Event Calendar 2.0//EN
METHOD:PUBLISH
X-PUBLISHED-TTL:P3D
REFRESH-INTERVAL:P3D
CALSCALE:GREGORIAN
BEGIN:VEVENT
DTSTART:20150303T220000Z
DTEND:20150304T000000Z
X-MICROSOFT-CDO-ALLDAYEVENT:FALSE
SUMMARY:Saratoga Young Professionals Network
DESCRIPTION:The Saratoga Young Professionals will meet for a mixer at the newly opened Barrelhouse for a fun night of networking. On hand will be some of the area's future business leaders looking to grow and strengthen their network. Newly opened\, The Barrelhouse is a restaurant that specializes in serving local craft beverages. Space is limited\, so be sure to reserve your spot now! Thank you to The Adirondack Trust Company for sponsoring the 2015 Saratoga Young Professionals Network
X-ALT-DESC;FMTTYPE=text/html:The Saratoga Young Professionals will meet for a mixer at the newly opened Barrelhouse for a fun night of networking. On hand will be some of the area&#39\;s future business leaders looking to grow and strengthen their network. Newly opened\, The Barrelhouse is a restaurant that specializes&nbsp\;in serving local craft beverages. Space is limited\, so be sure to reserve your spot now! Thank you to The Adirondack Trust Company for sponsoring the 2015 Saratoga Young Professionals Network
LOCATION:The Barrelhouse 68 Beekman Street Saratoga Springs
UID:e.2254.5019
SEQUENCE:3
DTSTAMP:20260423T225736Z
URL:https://chamber.saratoga.org/events/details/saratoga-young-professionals-network-03-03-2015-5019
END:VEVENT

END:VCALENDAR
