BEGIN:VCALENDAR
VERSION:2.0
PRODID:-//ChamberMaster//Event Calendar 2.0//EN
METHOD:PUBLISH
X-PUBLISHED-TTL:P3D
REFRESH-INTERVAL:P3D
CALSCALE:GREGORIAN
BEGIN:VEVENT
DTSTART:20150113T170000Z
DTEND:20150113T190000Z
X-MICROSOFT-CDO-ALLDAYEVENT:FALSE
SUMMARY:Saratoga Young Professionals Network
DESCRIPTION:The Saratoga Young Professionals Network will meet on\n\nTuesday\, January 13th at the Wishing Well Restaurant.\n\nTom Roohan\, Owner of Roohan Realty\, will be on hand as the guest speaker and will be available to network with throughout the event. Tom will speak about his involvement with Saratoga throughout the past several years\, give his take on where the city and county are going while offering his advice to the young professionals group. Thank you to The Adirondack Trust Company for sponsoring the 2015 Saratoga Young Professionals Network.
X-ALT-DESC;FMTTYPE=text/html:<p _mce_style="color: #000000\; font-size: 10pt\; margin-top: 0px\; margin-bottom: 0px\;" style="margin-top: 0px\; margin-bottom: 0px\; font-family: Arial\, Helvetica\, sans-serif\; line-height: normal\; color: rgb(0\, 0\, 0)\; font-size: 10pt\;">The Saratoga Young Professionals Network will meet on</p>\n\n<p _mce_style="color: #000000\; font-size: 10pt\; margin-top: 0px\; margin-bottom: 0px\;" style="margin-top: 0px\; margin-bottom: 0px\; font-family: Arial\, Helvetica\, sans-serif\; line-height: normal\; color: rgb(0\, 0\, 0)\; font-size: 10pt\;">Tuesday\, January 13th at the Wishing Well Restaurant.</p>\n\n<p _mce_style="color: #000000\; font-size: 10pt\; margin-top: 0px\; margin-bottom: 0px\;" style="margin-top: 0px\; margin-bottom: 0px\; font-family: Arial\, Helvetica\, sans-serif\; line-height: normal\; color: rgb(0\, 0\, 0)\; font-size: 10pt\;">Tom Roohan\, Owner of Roohan Realty\, will be on hand as the guest speaker and will be available to network with throughout the event. Tom will speak about his involvement with Saratoga throughout the past several years\, give his take on where the city and county are going while offering his advice to the young professionals group. Thank you to The Adirondack Trust Company for sponsoring the 2015 Saratoga Young Professionals Network.&nbsp\;</p>\n
LOCATION:Wishing Well Restauant 745 Saratoga Road Wilton\, NY
UID:e.2254.689
SEQUENCE:3
DTSTAMP:20260424T051230Z
URL:https://chamber.saratoga.org/events/details/saratoga-young-professionals-network-01-13-2015-689
END:VEVENT

END:VCALENDAR
