BEGIN:VCALENDAR
VERSION:2.0
PRODID:-//ChamberMaster//Event Calendar 2.0//EN
METHOD:PUBLISH
X-PUBLISHED-TTL:P3D
REFRESH-INTERVAL:P3D
CALSCALE:GREGORIAN
BEGIN:VEVENT
DTSTART:20160207T160000Z
DTEND:20160207T180000Z
X-MICROSOFT-CDO-ALLDAYEVENT:FALSE
SUMMARY:Saratoga Winterfest 5K Snowshoe Race
DESCRIPTION:Go to www.saratogastryders.org for race application and link to online registration at www.active.com\n\nDay-of Registration at Admin Building at Saratoga Spa State Park. 5K course. Limited amount of Dion loaners available for $5. Call or email Laura Clark laura@saratogastryders.org or 518-581-1278 early to reserve a pair. If there is no snow\, might be a trail race.  For last-minute go/no go go to www.runwmac.com Part of the Dion Snowshoe Series.
X-ALT-DESC;FMTTYPE=text/html:Go to www.saratogastryders.org for race application and link to online registration at www.active.com<br />\nDay-of Registration at Admin Building at Saratoga Spa State Park. 5K course. Limited amount of Dion loaners available for $5. Call or email Laura Clark laura@saratogastryders.org or 518-581-1278 early to reserve a pair. If there is no snow\, might be a trail race.&nbsp\; For last-minute go/no go go to www.runwmac.com Part of the Dion Snowshoe Series.
LOCATION:Saratoga Spa State Park
UID:e.2254.13120
SEQUENCE:3
DTSTAMP:20260422T023303Z
URL:https://chamber.saratoga.org/events/details/saratoga-winterfest-5k-snowshoe-race-02-07-2016-13120
END:VEVENT

END:VCALENDAR
