BEGIN:VCALENDAR
VERSION:2.0
PRODID:-//ChamberMaster//Event Calendar 2.0//EN
METHOD:PUBLISH
X-PUBLISHED-TTL:P3D
REFRESH-INTERVAL:P3D
CALSCALE:GREGORIAN
BEGIN:VEVENT
DTSTART:20140814T020000Z
DTEND:20141005T020000Z
X-MICROSOFT-CDO-ALLDAYEVENT:FALSE
SUMMARY:Saratoga Walk to Cure Diabetes - 08/13/2014
DESCRIPTION:This is a walk to raise funds for JDRF to find a cure for type one diabetes .  Check in begins at 10:00am and the walk is at 11:00am\, 10/5.The walk is at Skidmore College on Sunday\, October 5\, 2014.  You may register on line at walk.jdrf.org.  Check in begins at 10:00am and the walk is at 11:00am.  For more information call Karen at 518-649-9385.  We hope to see you there!
X-ALT-DESC;FMTTYPE=text/html:<p>This is a walk to raise funds for JDRF to find a cure for type one diabetes .  Check in begins at 10:00am and the walk is at 11:00am\, 10/5.</p><p>The walk is at Skidmore College on Sunday\, October 5\, 2014. &nbsp\;You may register on line at walk.jdrf.org. &nbsp\;Check in begins at 10:00am and the walk is at 11:00am. &nbsp\;</p><p>For more information call Karen at 518-649-9385. &nbsp\;</p><p>We hope to see you there!</p>
LOCATION:Skidmore College
UID:e.2254.3524
SEQUENCE:3
DTSTAMP:20260424T093625Z
URL:https://chamber.saratoga.org/events/details/saratoga-walk-to-cure-diabetes-08-13-2014-08-13-2014-3524
END:VEVENT

END:VCALENDAR
