BEGIN:VCALENDAR
VERSION:2.0
PRODID:-//ChamberMaster//Event Calendar 2.0//EN
METHOD:PUBLISH
X-PUBLISHED-TTL:P3D
REFRESH-INTERVAL:P3D
CALSCALE:GREGORIAN
BEGIN:VEVENT
DTSTART:20150804T140000Z
DTEND:20150805T010000Z
X-MICROSOFT-CDO-ALLDAYEVENT:FALSE
SUMMARY:Saratoga Tuesdays Weekly Calendar
DESCRIPTION:Saratoga Tuesdays\n\n Date July 21\, 2015\n\n 10AM   12Noon   Cooking Class        "Paella\, Pork\, and Perfection"     Matt Di Santo Rose\n\n 12 -1:00PM           Lunch relax and enjoy\n\n 1:00 -3:00PM        Presentation                          "Social Security Savvy"                                                                                                                               Kerri Hurlock    Sterling Minor Financial   \n\n2:00   3:00PM      Workshop         "Knit One   Pearl Two" -  Prayer Shawl Ministry -  All skill levels welcome please bring any circular needles sizes 10-13 Basics will be taught and/or bring your own projects to knit\n\n3:00 -5:00PM:       Dance                Line Dancing for all ages                       Doris Segrave              \n\n5:30   7:00PM      Chinese Culture and Canaan Hymns                      \n\n                        Introduction to hieroglyphic Chinese Characters \n\n                        Introduction to Chinese Pinyin\n\n                        Song Intro and Practice Singing  ??????  (Lord\, You are My Best Friend)\n\n                        Song Intro and Practice Singing  ????????  (5am in China)\n\n7:30   9:00PM      Community Gospel Sing   \n\n  "Vocal training and Fun Songs" \n\n    Led by Daniel Pravder\, Peter Ouindjian   \n\n \n\n \n\nSaratoga Tuesdays\n\nDate July 28\, 2015\n\n \n\n10AM   12Noon   Cooking Classes                Chinese Cooking                         Lin Koh\n\n12 -1:00PM           Lunch relax and enjoy \n\n1:00 -3:00PM        Workshop                   "Learn to Scrapbook!"                  Heather Schiavo\n\nBring 5-10 photos and learn how to scrapbook quickly\, simply\, & beautifully with Creative Memories pre-designed pages! Simply add your photos right in to the designs\, or think outside the box and add your photos wherever you like. All skill levels welcome. All supplies included in this introductory class. Supplies available to order.\n\n2:00   3:00PM      Workshop         "Knit One   Pearl Two" -  Prayer Shawl Ministry -  All skill levels welcome please bring any circular needles sizes 10-13 Basics will be taught and/or bring your own projects to knit                                                                                               \n\n 3:00 -5:00PM:       Dance /Yoga                    Line Dancing for all ages    Doris Segrave                      \n\n5:30   7:00PM     Chinese Culture and Canaan Hymns                    Jimmie Koh\n\n           Hieroglyphic Chinese Characters and the Bible \n\n            Basic Conversational Chinese \n\n            Song Intro and Practice Singing  ???????  (Sing a Heavenly Song)\n\n            Song Intro and Practice Singing  ????  (Grateful Tears)            \n\n \n\n7:30   9:00PM   Community Gospel Sing\n\n              "Vocal training and Fun Songs"                                                                                                \n\n               Led by Daniel Pravder\, Peter Ouindjian from Skidmore College
X-ALT-DESC;FMTTYPE=text/html:<strong><span style="font-size: 18pt\;"><span style="font-family: times new roman\;">Saratoga Tuesdays</span></span></strong><br />\n&nbsp\;<strong><span style="font-size: medium\;"><span style="font-family: times new roman\;">Date July 21\, 2015</span></span></strong><br />\n&nbsp\;<span style="font-size: medium\;"><span style="font-family: times new roman\;">10AM &ndash\; 12Noon&nbsp\;&nbsp\; <strong>Cooking Class</strong>&nbsp\;&nbsp\;&nbsp\;&nbsp\; &nbsp\;&nbsp\; &ldquo\;Paella\, Pork\, and Perfection&rdquo\;&nbsp\;&nbsp\;&nbsp\;&nbsp\; Matt Di Santo Rose</span></span><br />\n&nbsp\;<span style="font-size: medium\;"><span style="font-family: times new roman\;">12 -1:00PM &nbsp\; &nbsp\;&nbsp\; &nbsp\;&nbsp\;&nbsp\;&nbsp\;&nbsp\;<strong>Lunch relax and enjoy</strong></span></span><br />\n&nbsp\;<span style="font-size: medium\;"><span style="font-family: times new roman\;">1:00 -3:00PM &nbsp\; &nbsp\; &nbsp\; &nbsp\;<strong>Presentation</strong>&nbsp\;&nbsp\;&nbsp\;&nbsp\;&nbsp\;&nbsp\;&nbsp\;&nbsp\;&nbsp\;&nbsp\;&nbsp\;&nbsp\;&nbsp\;&nbsp\;&nbsp\;&nbsp\;&nbsp\;&nbsp\;&nbsp\;&nbsp\;&nbsp\;&nbsp\;&nbsp\;&nbsp\;&nbsp\; &ldquo\;Social Security Savvy&rdquo\;&nbsp\; &nbsp\;&nbsp\;&nbsp\;&nbsp\;&nbsp\;&nbsp\;&nbsp\; &nbsp\;&nbsp\;&nbsp\;&nbsp\;&nbsp\;&nbsp\;&nbsp\;&nbsp\;&nbsp\;&nbsp\;&nbsp\;&nbsp\;&nbsp\;&nbsp\;&nbsp\;&nbsp\;&nbsp\;&nbsp\;&nbsp\;&nbsp\;&nbsp\;&nbsp\;&nbsp\;&nbsp\;&nbsp\;&nbsp\;&nbsp\;&nbsp\;&nbsp\;&nbsp\;&nbsp\;&nbsp\;&nbsp\;&nbsp\;&nbsp\; &nbsp\;&nbsp\;&nbsp\;&nbsp\;&nbsp\;&nbsp\;&nbsp\;&nbsp\;&nbsp\;&nbsp\;&nbsp\; &nbsp\;&nbsp\;&nbsp\;&nbsp\;&nbsp\;&nbsp\;&nbsp\;&nbsp\;&nbsp\;&nbsp\;&nbsp\;&nbsp\;&nbsp\;&nbsp\;&nbsp\;&nbsp\;&nbsp\;&nbsp\;&nbsp\;&nbsp\;&nbsp\;&nbsp\;&nbsp\;&nbsp\;&nbsp\;&nbsp\;&nbsp\;&nbsp\;&nbsp\;&nbsp\;&nbsp\;&nbsp\;&nbsp\;&nbsp\;&nbsp\;&nbsp\;&nbsp\;&nbsp\;&nbsp\;&nbsp\;&nbsp\;&nbsp\;&nbsp\;&nbsp\;&nbsp\;&nbsp\;&nbsp\; &nbsp\;&nbsp\;&nbsp\;&nbsp\;&nbsp\;&nbsp\;&nbsp\;&nbsp\;&nbsp\;&nbsp\;&nbsp\;&nbsp\;&nbsp\;&nbsp\;&nbsp\;&nbsp\;&nbsp\;&nbsp\;&nbsp\;&nbsp\;&nbsp\;Kerri Hurlock&nbsp\;&nbsp\;&nbsp\; Sterling Minor Financial&nbsp\;&nbsp\; </span></span><br />\n<span style="font-size: medium\;"><span style="font-family: times new roman\;">2:00 &ndash\; 3:00PM &nbsp\;&nbsp\;&nbsp\;&nbsp\;&nbsp\;<strong>Workshop&nbsp\;&nbsp\;&nbsp\;&nbsp\; &nbsp\;&nbsp\;&nbsp\;&nbsp\;</strong>&ldquo\;Knit One &ndash\; Pearl Two&rdquo\; -&nbsp\; Prayer Shawl Ministry -&nbsp\; All skill levels welcome please bring any circular needles sizes 10-13 Basics will be taught and/or bring your own projects to knit</span></span><br />\n<span style="font-size: medium\;"><span style="font-family: times new roman\;">3:00 -5:00PM: &nbsp\;&nbsp\;&nbsp\;&nbsp\;&nbsp\;&nbsp\;<strong>Dance </strong>&nbsp\;&nbsp\; &nbsp\; &nbsp\; &nbsp\; &nbsp\; &nbsp\; &nbsp\; Line Dancing for all ages&nbsp\;&nbsp\;&nbsp\;&nbsp\;&nbsp\;&nbsp\;&nbsp\;&nbsp\; &nbsp\;&nbsp\;&nbsp\;&nbsp\;&nbsp\;&nbsp\;&nbsp\;&nbsp\;&nbsp\;&nbsp\;&nbsp\;&nbsp\;&nbsp\;&nbsp\;Doris Segrave&nbsp\;&nbsp\;&nbsp\;&nbsp\;&nbsp\;&nbsp\;&nbsp\;&nbsp\;&nbsp\;&nbsp\;&nbsp\;&nbsp\;&nbsp\; </span></span><br />\n<span style="font-size: medium\;"><span style="font-family: times new roman\;">5:30 &ndash\; 7:00PM &nbsp\; &nbsp\;&nbsp\;&nbsp\;<strong>Chinese Culture and Canaan Hymns</strong>&nbsp\;&nbsp\;&nbsp\;&nbsp\;&nbsp\;&nbsp\;&nbsp\;&nbsp\;&nbsp\;&nbsp\;&nbsp\;&nbsp\;&nbsp\;&nbsp\;&nbsp\;&nbsp\;&nbsp\;&nbsp\;&nbsp\;&nbsp\;&nbsp\;&nbsp\;</span></span><br />\n<span style="font-size: medium\;"><span style="font-family: times new roman\;">&nbsp\;&nbsp\;&nbsp\;&nbsp\;&nbsp\;&nbsp\;&nbsp\;&nbsp\;&nbsp\;&nbsp\;&nbsp\;&nbsp\;&nbsp\;&nbsp\;&nbsp\;&nbsp\;&nbsp\;&nbsp\;&nbsp\;&nbsp\;&nbsp\;&nbsp\;&nbsp\; Introduction to hieroglyphic Chinese Characters&nbsp\;</span></span><br />\n<span style="font-size: medium\;"><span style="font-family: times new roman\;">&nbsp\;&nbsp\;&nbsp\;&nbsp\;&nbsp\;&nbsp\;&nbsp\;&nbsp\;&nbsp\;&nbsp\;&nbsp\;&nbsp\;&nbsp\;&nbsp\;&nbsp\;&nbsp\;&nbsp\;&nbsp\;&nbsp\;&nbsp\;&nbsp\;&nbsp\;&nbsp\; Introduction to Chinese Pinyin</span></span><br />\n<span style="font-size: medium\;"><span style="font-family: times new roman\;">&nbsp\;&nbsp\;&nbsp\;&nbsp\;&nbsp\;&nbsp\;&nbsp\;&nbsp\;&nbsp\;&nbsp\;&nbsp\;&nbsp\;&nbsp\;&nbsp\;&nbsp\;&nbsp\;&nbsp\; &nbsp\;&nbsp\;&nbsp\;&nbsp\;&nbsp\; Song Intro and Practice Singing <span style="font-family: ms gothic\;">&laquo\;??????&raquo\;</span> (Lord\, You are My Best Friend)</span></span><br />\n<span style="font-size: medium\;"><span style="font-family: times new roman\;">&nbsp\;&nbsp\;&nbsp\;&nbsp\;&nbsp\;&nbsp\;&nbsp\;&nbsp\;&nbsp\;&nbsp\;&nbsp\; &nbsp\;&nbsp\;&nbsp\;&nbsp\;&nbsp\;&nbsp\;&nbsp\;&nbsp\;&nbsp\;&nbsp\;&nbsp\; Song Intro and Practice Singing <span style="font-family: ms gothic\;">&laquo\;???????</span><span style="font-family: microsoft jhenghei\,sans-serif\;">?&raquo\;</span> (5am in China)</span></span><br />\n<span style="font-size: medium\;"><span style="font-family: times new roman\;">7:30 &ndash\; 9:00PM &nbsp\;&nbsp\;&nbsp\;&nbsp\;&nbsp\;<strong>Community Gospel Sing</strong>&nbsp\;&nbsp\;&nbsp\;<br />\n&nbsp\;&nbsp\;&ldquo\;Vocal training and Fun Songs&rdquo\;&nbsp\;<br />\n&nbsp\;&nbsp\;&nbsp\;&nbsp\;Led by Daniel Pravder\, Peter Ouindjian &nbsp\; </span></span><br />\n&nbsp\;<br />\n&nbsp\;<br />\n<strong><span style="font-size: 18pt\;"><span style="font-family: times new roman\;">Saratoga Tuesdays</span></span></strong><br />\n<strong><span style="font-size: medium\;"><span style="font-family: times new roman\;">Date July 28\, 2015</span></span></strong><br />\n&nbsp\;<br />\n<span style="font-size: medium\;"><span style="font-family: times new roman\;">10AM &ndash\; 12Noon &nbsp\;&nbsp\;<strong>Cooking Classes</strong>&nbsp\; &nbsp\;&nbsp\;&nbsp\;&nbsp\;&nbsp\;&nbsp\;&nbsp\;&nbsp\;&nbsp\;&nbsp\;&nbsp\;&nbsp\; &nbsp\;Chinese Cooking&nbsp\; &nbsp\;&nbsp\;&nbsp\;&nbsp\;&nbsp\;&nbsp\;&nbsp\;&nbsp\;&nbsp\;&nbsp\;&nbsp\;&nbsp\;&nbsp\;&nbsp\;&nbsp\;&nbsp\;&nbsp\;&nbsp\;&nbsp\;&nbsp\;&nbsp\;&nbsp\;&nbsp\;Lin Koh</span></span><br />\n<span style="font-size: medium\;"><span style="font-family: times new roman\;">12 -1:00PM &nbsp\; &nbsp\;&nbsp\; &nbsp\;&nbsp\;&nbsp\;&nbsp\;&nbsp\;<strong>Lunch relax and enjoy</strong></span></span>&nbsp\;<br />\n<span style="font-size: medium\;"><span style="font-family: times new roman\;">1:00 -3:00PM &nbsp\; &nbsp\; &nbsp\; &nbsp\;<strong>Workshop</strong>&nbsp\;&nbsp\;&nbsp\;&nbsp\;&nbsp\;&nbsp\;&nbsp\;&nbsp\;&nbsp\;&nbsp\;&nbsp\; &nbsp\;&nbsp\;&nbsp\;&nbsp\;&nbsp\;&nbsp\; &quot\;Learn to Scrapbook!&quot\;&nbsp\;&nbsp\; &nbsp\;&nbsp\;&nbsp\;&nbsp\;&nbsp\;&nbsp\;&nbsp\;&nbsp\;&nbsp\;&nbsp\;&nbsp\;&nbsp\;&nbsp\;&nbsp\;&nbsp\;Heather Schiavo</span></span><br />\n<span style="font-size: medium\;"><span style="font-family: times new roman\;">Bring 5-10 photos and learn how to scrapbook quickly\, simply\, &amp\; beautifully with Creative Memories&nbsp\;pre-designed pages! Simply add your photos right in to the designs\, or think outside the box and add your photos wherever you like. All skill levels welcome. All supplies included in this introductory class. Supplies available to order.</span></span><br />\n<span style="font-size: medium\;"><span style="font-family: times new roman\;">2:00 &ndash\; 3:00PM &nbsp\;&nbsp\;&nbsp\;&nbsp\;&nbsp\;<strong>Workshop&nbsp\;&nbsp\;&nbsp\;&nbsp\; &nbsp\;&nbsp\;&nbsp\;&nbsp\;</strong>&ldquo\;Knit One &ndash\; Pearl Two&rdquo\; -&nbsp\; Prayer Shawl Ministry -&nbsp\; All skill levels welcome please bring any circular needles sizes 10-13 Basics will be taught and/or bring your own projects to knit</span></span><span style="font-size: medium\;"><span style="font-family: times new roman\;">&nbsp\;&nbsp\;&nbsp\;&nbsp\;&nbsp\;&nbsp\;&nbsp\;&nbsp\;&nbsp\;&nbsp\;&nbsp\;&nbsp\;&nbsp\;&nbsp\;&nbsp\;&nbsp\;&nbsp\;&nbsp\;&nbsp\;&nbsp\;&nbsp\;&nbsp\;&nbsp\;&nbsp\;&nbsp\;&nbsp\;&nbsp\;&nbsp\;&nbsp\;&nbsp\;&nbsp\;&nbsp\;&nbsp\;&nbsp\;&nbsp\;&nbsp\;&nbsp\;&nbsp\;&nbsp\;&nbsp\;&nbsp\;&nbsp\;&nbsp\;&nbsp\;&nbsp\;&nbsp\;&nbsp\;&nbsp\;&nbsp\;&nbsp\;&nbsp\;&nbsp\;&nbsp\;&nbsp\;&nbsp\;&nbsp\;&nbsp\;&nbsp\;&nbsp\;&nbsp\;&nbsp\;&nbsp\;&nbsp\;&nbsp\;&nbsp\;&nbsp\;&nbsp\;&nbsp\;&nbsp\;&nbsp\;&nbsp\;&nbsp\;&nbsp\;&nbsp\;&nbsp\;&nbsp\;&nbsp\;&nbsp\;&nbsp\;&nbsp\;&nbsp\;&nbsp\;&nbsp\;&nbsp\;&nbsp\;&nbsp\;&nbsp\;&nbsp\;&nbsp\;&nbsp\;&nbsp\;&nbsp\;&nbsp\;&nbsp\;&nbsp\;</span></span><br />\n&nbsp\;<span style="font-size: medium\;"><span style="font-family: times new roman\;">3:00 -5:00PM:&nbsp\;&nbsp\;&nbsp\;&nbsp\;&nbsp\; &nbsp\;<strong>Dance /Yoga</strong> &nbsp\;&nbsp\;&nbsp\;&nbsp\;&nbsp\;&nbsp\;&nbsp\;&nbsp\;&nbsp\;&nbsp\;&nbsp\;&nbsp\;&nbsp\;&nbsp\;&nbsp\;&nbsp\;&nbsp\;&nbsp\; Line Dancing for all ages&nbsp\;&nbsp\;&nbsp\;&nbsp\;Doris Segrave&nbsp\;&nbsp\;&nbsp\;&nbsp\;&nbsp\;&nbsp\;&nbsp\;&nbsp\;&nbsp\;&nbsp\;&nbsp\;&nbsp\;&nbsp\;&nbsp\;&nbsp\;&nbsp\;&nbsp\;&nbsp\;&nbsp\;&nbsp\;&nbsp\; </span></span><br />\n<span style="font-size: medium\;"><span style="font-family: times new roman\;">5:30 &ndash\; 7:00PM &nbsp\; &nbsp\;&nbsp\;<strong>Chinese Culture and Canaan Hymns</strong>&nbsp\; &nbsp\; &nbsp\;&nbsp\;&nbsp\;&nbsp\;&nbsp\;&nbsp\;&nbsp\;&nbsp\;&nbsp\;&nbsp\;&nbsp\;&nbsp\;&nbsp\;&nbsp\;&nbsp\;&nbsp\;Jimmie Koh</span></span><br />\n<span style="font-size: medium\;"><span style="font-family: times new roman\;">&nbsp\;&nbsp\;&nbsp\;&nbsp\;&nbsp\;&nbsp\;&nbsp\;&nbsp\;&nbsp\;&nbsp\; Hieroglyphic Chinese Characters and the Bible </span></span><br />\n<span style="font-size: medium\;"><span style="font-family: times new roman\;">&nbsp\;&nbsp\;&nbsp\;&nbsp\;&nbsp\;&nbsp\;&nbsp\;&nbsp\;&nbsp\;&nbsp\;&nbsp\; Basic Conversational Chinese </span></span><br />\n<span style="font-size: medium\;"><span style="font-family: times new roman\;">&nbsp\;&nbsp\;&nbsp\;&nbsp\;&nbsp\;&nbsp\;&nbsp\;&nbsp\;&nbsp\;&nbsp\;&nbsp\; Song Intro and Practice Singing <span style="font-family: ms gothic\;">&laquo\;???????&raquo\;</span> (Sing a Heavenly Song)</span></span><br />\n<span style="font-size: medium\;"><span style="font-family: times new roman\;">&nbsp\;&nbsp\;&nbsp\;&nbsp\;&nbsp\;&nbsp\;&nbsp\;&nbsp\;&nbsp\;&nbsp\;&nbsp\; Song Intro and Practice Singing <span style="font-family: ms gothic\;">&laquo\;????&raquo\;</span> (Grateful Tears) &nbsp\; &nbsp\; &nbsp\; &nbsp\;&nbsp\;&nbsp\;&nbsp\; </span></span><br />\n&nbsp\;<br />\n<span style="font-size: medium\;"><span style="font-family: times new roman\;">7:30 &ndash\; 9:00PM&nbsp\;&nbsp\;&nbsp\;<strong>Community Gospel Sing</strong><br />\n&nbsp\;&nbsp\;&nbsp\;&nbsp\;&nbsp\;&nbsp\;&nbsp\;&nbsp\;&nbsp\;&nbsp\;&nbsp\;&nbsp\;</span></span>&nbsp\;&nbsp\;<span style="font-size: medium\;"><span style="font-family: times new roman\;">&ldquo\;Vocal training and Fun Songs&rdquo\;&nbsp\;&nbsp\;&nbsp\;&nbsp\;&nbsp\;&nbsp\;&nbsp\;&nbsp\;&nbsp\;&nbsp\;&nbsp\;&nbsp\;&nbsp\;&nbsp\;&nbsp\;&nbsp\;&nbsp\;&nbsp\;&nbsp\;&nbsp\;&nbsp\;&nbsp\;&nbsp\;&nbsp\;&nbsp\;&nbsp\;&nbsp\;&nbsp\;&nbsp\;&nbsp\;&nbsp\;&nbsp\;&nbsp\;&nbsp\;&nbsp\;&nbsp\;&nbsp\;&nbsp\;&nbsp\;&nbsp\;&nbsp\;&nbsp\;&nbsp\;&nbsp\;&nbsp\;&nbsp\;&nbsp\;&nbsp\;&nbsp\;&nbsp\;&nbsp\;&nbsp\;&nbsp\;&nbsp\;&nbsp\;&nbsp\;&nbsp\;&nbsp\;&nbsp\;&nbsp\;&nbsp\;&nbsp\;&nbsp\;&nbsp\;&nbsp\;&nbsp\;&nbsp\;&nbsp\;&nbsp\;&nbsp\;&nbsp\;&nbsp\;&nbsp\;&nbsp\;&nbsp\;&nbsp\;&nbsp\;&nbsp\;&nbsp\;&nbsp\;&nbsp\;&nbsp\;&nbsp\;&nbsp\;&nbsp\;&nbsp\;&nbsp\;&nbsp\;&nbsp\;&nbsp\;&nbsp\;&nbsp\;&nbsp\;&nbsp\;&nbsp\;&nbsp\;<br />\n&nbsp\;&nbsp\;&nbsp\;&nbsp\;&nbsp\;&nbsp\;&nbsp\;&nbsp\;&nbsp\;&nbsp\;&nbsp\;&nbsp\;&nbsp\;&nbsp\;&nbsp\;Led by Daniel Pravder\, Peter Ouindjian from Skidmore College&nbsp\;&nbsp\;</span></span><br />\n&nbsp\;
LOCATION:First Baptist Church 45 Washington Street
UID:e.2254.10146
SEQUENCE:3
DTSTAMP:20260423T023937Z
URL:https://chamber.saratoga.org/events/details/saratoga-tuesdays-weekly-calendar-08-04-2015-10146
END:VEVENT

END:VCALENDAR
