BEGIN:VCALENDAR
VERSION:2.0
PRODID:-//ChamberMaster//Event Calendar 2.0//EN
METHOD:PUBLISH
X-PUBLISHED-TTL:P3D
REFRESH-INTERVAL:P3D
CALSCALE:GREGORIAN
BEGIN:VEVENT
DTSTART:20150811T140000Z
DTEND:20150812T010000Z
X-MICROSOFT-CDO-ALLDAYEVENT:FALSE
SUMMARY:Saratoga Tuesdays
DESCRIPTION:Saratoga Tuesdays at First Baptist Church 45 Washington Street August 11\, 2015 10AM - 12Noon Cooking Class "Sensational Summer Salads and Sides" 12 -1:00PM     Lunch relax and enjoy 1:00 -3:00PM   -Saratoga Trunk - The book\, the town\, the movie With Kathy Tyger Totten our guide and leader. Take an armchair stroll on Saratoga's main street\, through pictures and discussion of the real life at the time\, and what Saratoga looked like then and now. 3:00 -5:00PM: Movie "Saratoga Trunk"  (1 hour 34 minutes run time) There will be light refreshments for anyone who would like to stay and watch the 3:00 -5:00PM: Dance /Yoga   Line Dancing for all ages with Doris Segrave "Knit One Pearl Two"  a Prayer Shawl Ministry - All skill levels welcome please bring any 14" straight needles sizes 8-13. Basics will be taught and/or bring your own projects to knit.                    5:30 - 7:00PM   Chinese Culture and Canaan Hymns                   Basic Conversational Chinese Song Intro and Practice Sing (None other than You\, Lord Jesus) (Olives in the Press) 7:30 -9:00PM Community Gospel Sing "Vocal training and Fun Songs" Led by Daniel Pravder\, Peter Ouindjian   Other hymn writers in recent Chinese history
X-ALT-DESC;FMTTYPE=text/html:Saratoga Tuesdays at First Baptist Church 45 Washington Street August 11\, 2015 10AM&nbsp\;- 12Noon Cooking Class &quot\;Sensational Summer Salads and Sides&quot\; 12 -1:00PM &nbsp\; &nbsp\; Lunch relax and enjoy 1:00 -3:00PM&nbsp\;&nbsp\; -Saratoga Trunk&nbsp\;- The book\, the town\, the movie With Kathy Tyger Totten our guide and leader. Take an armchair stroll on Saratoga&#39\;s main street\, through pictures and discussion of the real life at the time\, and what Saratoga looked like then and now. 3:00 -5:00PM: Movie &quot\;Saratoga Trunk&quot\;&nbsp\; (1 hour 34 minutes run time) There will be light refreshments for anyone who would like to stay and watch the 3:00 -5:00PM: Dance /Yoga &nbsp\;&nbsp\;Line Dancing for all ages with Doris Segrave &quot\;Knit One Pearl Two&quot\;&nbsp\;&nbsp\;a&nbsp\;Prayer Shawl Ministry - All skill levels welcome please bring any 14&quot\; straight needles sizes 8-13. Basics will be taught and/or bring your own projects to knit.&nbsp\; &nbsp\; &nbsp\; &nbsp\; &nbsp\; &nbsp\; &nbsp\; &nbsp\; &nbsp\; &nbsp\; 5:30&nbsp\;- 7:00PM &nbsp\; Chinese Culture and Canaan Hymns &nbsp\; &nbsp\; &nbsp\; &nbsp\; &nbsp\; &nbsp\; &nbsp\; &nbsp\; &nbsp\; Basic Conversational Chinese Song Intro and Practice Sing (None other than You\, Lord Jesus) (Olives in the Press) 7:30 -9:00PM Community Gospel Sing &quot\;Vocal training and Fun Songs&quot\; Led by Daniel Pravder\, Peter Ouindjian &nbsp\; Other hymn writers in recent Chinese history
LOCATION:First Baptist Church 45 Washington Street Saratoga Springs New York
UID:e.2254.10202
SEQUENCE:3
DTSTAMP:20260423T023951Z
URL:https://chamber.saratoga.org/events/details/saratoga-tuesdays-08-11-2015-10202
END:VEVENT

END:VCALENDAR
