BEGIN:VCALENDAR
VERSION:2.0
PRODID:-//ChamberMaster//Event Calendar 2.0//EN
METHOD:PUBLISH
X-PUBLISHED-TTL:P3D
REFRESH-INTERVAL:P3D
CALSCALE:GREGORIAN
BEGIN:VEVENT
DTSTART:20150706T221500Z
DTEND:20150706T233000Z
X-MICROSOFT-CDO-ALLDAYEVENT:FALSE
SUMMARY:Saratoga Stryders' 5K Trail Run Series
DESCRIPTION:Open to all. Proceeds benefit the Wilton Wildlife Preserve & Park\, Saratoga Spa State ark and the Jake Fund
X-ALT-DESC;FMTTYPE=text/html:Open to all. Proceeds benefit the Wilton Wildlife Preserve &amp\; Park\, Saratoga Spa State ark and the Jake Fund
LOCATION:Camp Saratoga\, Wilton Wildlife Preserve
UID:e.2254.8708
SEQUENCE:3
DTSTAMP:20260423T040919Z
URL:https://chamber.saratoga.org/events/details/saratoga-stryders-5k-trail-run-series-07-06-2015-8708
END:VEVENT

END:VCALENDAR
