BEGIN:VCALENDAR
VERSION:2.0
PRODID:-//ChamberMaster//Event Calendar 2.0//EN
METHOD:PUBLISH
X-PUBLISHED-TTL:P3D
REFRESH-INTERVAL:P3D
CALSCALE:GREGORIAN
BEGIN:VEVENT
DTSTART:20160911T133000Z
DTEND:20160911T173000Z
X-MICROSOFT-CDO-ALLDAYEVENT:FALSE
SUMMARY:Saratoga Stroll for Epilepsy 2016
DESCRIPTION:Enjoy a Stroll in the beautiful Saratoga Spa State Park along with family\, friends\, co-workers\, and new friends! A BBQ lunch will be provided after the walk\, along with music\, raffle prizes\, and fun activities for the kids\, both young and old! This is a family friendly event!
X-ALT-DESC;FMTTYPE=text/html:Enjoy a Stroll in the beautiful Saratoga Spa State Park along with family\, friends\, co-workers\, and new friends! A BBQ lunch will be provided after the walk\, along with music\, raffle prizes\, and fun activities for the kids\, both young and old! This is a family friendly event!
LOCATION:Saratoga Spa State Park - Columbia Pavilion 19 Roosevelt Dr\, Saratoga Springs
UID:e.2254.17306
SEQUENCE:3
DTSTAMP:20260420T231934Z
URL:https://chamber.saratoga.org/events/details/saratoga-stroll-for-epilepsy-2016-09-11-2016-17306
END:VEVENT

END:VCALENDAR
