BEGIN:VCALENDAR
VERSION:2.0
PRODID:-//ChamberMaster//Event Calendar 2.0//EN
METHOD:PUBLISH
X-PUBLISHED-TTL:P3D
REFRESH-INTERVAL:P3D
CALSCALE:GREGORIAN
BEGIN:VEVENT
DTSTART:20160619T143000Z
DTEND:20160619T160000Z
X-MICROSOFT-CDO-ALLDAYEVENT:FALSE
SUMMARY:Saratoga Springs Preservation Foundation Summer Stroll: The Good Life: North Broadway
DESCRIPTION:Summer Stroll: The Good Life: North Broadway\n\nNW Corner of North Broadway & Van Dam Street\n\nExecutive Director of SSPF\, Samantha Bosshart\, will lead a tour of the grand Queen Annes along this famed corridor. This area features homes built by Saratoga's most prominent figures such as Lucy Skidmore Scribner\, Fred Cluett\, William B. Gage\, and Senator Brackett. \n\n\n\n$5 SSPF members |  $8 non-members\n\n\n\nTours are rain or shine. Allow 90 minutes. \n\nRequires walking & standing and covers varied terrain. \n\nPre-registration preferred.\n\nFor more information or to R.S.V.P. \n\nNicole Babie\, Membership & Programs Coordinator\n\n(518) 587-5030 \n\nnbabie@saratogapreservation.org\n\n\n\nwww.saratogapreservation.org
X-ALT-DESC;FMTTYPE=text/html:<p><strong><span style="font-family:calibri\,sans-serif"><span style="font-size:9.0pt">Summer Stroll: The Good Life: North Broadway</span></span></strong><br />\n<em><span style="font-family:calibri\,sans-serif"><span style="font-size:9.0pt">NW Corner of North Broadway &amp\; Van Dam Street</span></span></em><br />\n<span style="font-family:calibri\,sans-serif"><span style="font-size:9.0pt">Executive Director of SSPF\, Samantha Bosshart\, will lead a tour of the grand Queen Annes along this famed corridor. This area features homes built by Saratoga&rsquo\;s most prominent figures such as Lucy Skidmore Scribner\, Fred Cluett\, William B. Gage\, and Senator Brackett.&nbsp\;</span></span><br />\n<br />\n<span style="font-family:calibri\,sans-serif">$5 SSPF members |&nbsp\; $8 non-members</span><br />\n<br />\n<strong><span style="font-family:calibri\,sans-serif">Tours are rain or shine. Allow 90 minutes. </span></strong><br />\n<strong><span style="font-family:calibri\,sans-serif">Requires walking &amp\; standing and covers varied terrain. </span></strong><br />\n<strong><span style="font-family:calibri\,sans-serif">Pre-registration preferred.</span></strong><br />\n<strong><span style="color:#00334D"><span style="font-family:calibri\,sans-serif">For more information or to R.S.V.P. </span></span></strong><br />\n<strong><span style="color:#00334D"><span style="font-family:calibri\,sans-serif">Nicole Babie\, Membership &amp\; Programs Coordinator</span></span></strong><br />\n<strong><span style="color:#00334D"><span style="font-family:calibri\,sans-serif">(518) 587-5030 </span></span></strong><br />\n<strong><span style="color:#00334D"><span style="font-family:calibri\,sans-serif"><a href="mailto:nbabie@saratogapreservation.org">nbabie@saratogapreservation.org</a><br />\n<br />\n<a href="http://www.saratogapreservation.org">www.saratogapreservation.org</a></span></span></strong></p>\n
LOCATION:Meet at NW Corner of North Broadway & Van Dam Street
UID:e.2254.16953
SEQUENCE:3
DTSTAMP:20260421T081042Z
URL:https://chamber.saratoga.org/events/details/saratoga-springs-preservation-foundation-summer-stroll-the-good-life-north-broadway-06-19-2016-16953
END:VEVENT

END:VCALENDAR
