BEGIN:VCALENDAR
VERSION:2.0
PRODID:-//ChamberMaster//Event Calendar 2.0//EN
METHOD:PUBLISH
X-PUBLISHED-TTL:P3D
REFRESH-INTERVAL:P3D
CALSCALE:GREGORIAN
BEGIN:VEVENT
DTSTART:20160710T143000Z
DTEND:20160710T160000Z
X-MICROSOFT-CDO-ALLDAYEVENT:FALSE
SUMMARY:Saratoga Springs Preservation Foundation Summer Stroll: Here Lies Saratoga’s Past: Greenridge Cemetery
DESCRIPTION:Join leader Jan Klassovity on this tour of Greenridge Cemetery to learn about the beautiful and unusual crypts and mausoleums\, and explore the history of some of  Saratoga's most prominent citizens.\n\nTour Sponsored By: LaBrake Memorials
X-ALT-DESC;FMTTYPE=text/html:<span style="font-family:calibri\,sans-serif"><span style="font-size:9.0pt">Join leader Jan Klassovity on this tour of Greenridge Cemetery to learn about the beautiful and unusual crypts and mausoleums\, and explore the history of some of&nbsp\; Saratoga&rsquo\;s most prominent citizens.</span></span><br />\n<strong><span style="font-family:calibri\,sans-serif"><span style="font-size:9.0pt">Tour Sponsored By: LaBrake Memorials</span></span></strong>
LOCATION:Sackett Gates\, Greenridge Cemetery\, Lincoln Avenue
UID:e.2254.17112
SEQUENCE:3
DTSTAMP:20260421T051415Z
URL:https://chamber.saratoga.org/events/details/saratoga-springs-preservation-foundation-summer-stroll-here-lies-saratoga-s-past-greenridge-cemetery-07-10-2016-17112
END:VEVENT

END:VCALENDAR
