BEGIN:VCALENDAR
VERSION:2.0
PRODID:-//ChamberMaster//Event Calendar 2.0//EN
METHOD:PUBLISH
X-PUBLISHED-TTL:P3D
REFRESH-INTERVAL:P3D
CALSCALE:GREGORIAN
BEGIN:VEVENT
DTSTART:20160526T210000Z
DTEND:20160526T230000Z
X-MICROSOFT-CDO-ALLDAYEVENT:FALSE
SUMMARY:Saratoga Springs Preservation Foundation's Annual Meeting & Preservation Recognition Awards Ceremony
DESCRIPTION:Preservation Recognition Awards Ceremony \n\nwill take place in conjunction with the \n\nFoundation's Annual Meeting.\n\nThursday\n\nMay 26th at 5pm\n\nH. Dutcher Community Room\n\nSaratoga Springs Public Library\n\n49 Henry Street\, Saratoga Springs\, NY
X-ALT-DESC;FMTTYPE=text/html:<p style="text-align: center\;"><strong><span style="color: navy\; font-size: 14pt\;">Preservation Recognition Awards Ceremony</span></strong><span style="color: navy\; font-size: 14pt\;">&nbsp\;<br />\nwill take place in conjunction with the&nbsp\;<br />\nFoundation&#39\;s Annual Meeting.</span></p>\n\n<p style="text-align: center\;"><strong><span style="color: navy\; font-size: 14pt\;">Thursday</span></strong><br />\n<strong><span style="color: navy\; font-size: 14pt\;"><strong>May 26th at&nbsp\;5pm</strong></span></strong><br />\n<span style="color: navy\; font-size: 14pt\;">H.&nbsp\;Dutcher Community Room<br />\nSaratoga Springs&nbsp\;Public Library<br />\n49 Henry Street\, Saratoga Springs\, NY</span></p>\n
LOCATION:H. Dutcher Community Room\, Saratoga Springs Public Library
UID:e.2254.16435
SEQUENCE:3
DTSTAMP:20260421T161254Z
URL:https://chamber.saratoga.org/events/details/saratoga-springs-preservation-foundation-s-annual-meeting-preservation-recognition-awards-ceremony-05-26-2016-16435
END:VEVENT

END:VCALENDAR
