BEGIN:VCALENDAR
VERSION:2.0
PRODID:-//ChamberMaster//Event Calendar 2.0//EN
METHOD:PUBLISH
X-PUBLISHED-TTL:P3D
REFRESH-INTERVAL:P3D
CALSCALE:GREGORIAN
BEGIN:VEVENT
DTSTART:20140912T020000Z
DTEND:20140914T020000Z
X-MICROSOFT-CDO-ALLDAYEVENT:FALSE
SUMMARY:Saratoga Springs Civil War Encampment - 09/11/2014
DESCRIPTION:Historic living history eventA full Civil War camp with multiple demonstrations\, skirmishes\, camp life\, drill and rehearsal\, hands on displays\, museum quality exhibits\, camp visited by reenactors of famous participants of that era\, Lincoln\, Lee\, Grant and others..\nSee scores of Civil War era soldiers in uniform demonstrating a realistic encampment \nin historic Congress Park \nin Saratoga Springs\, New York.\nFor more information contact:\n\nLance Ingmire\n1-800-381-5445\n518-584-2244\nhttp://www.saratogacivilwarencampment.org/
X-ALT-DESC;FMTTYPE=text/html:<p>Historic living history event</p><p><span style="font-size: medium\;">A full Civil War camp with multiple demonstrations\, skirmishes\, camp life\, drill and rehearsal\, hands on displays\, museum quality exhibits\, camp visited by reenactors of famous participants of that era\, Lincoln\, Lee\, Grant and others..</span></p>\n<p><span style="font-size: medium\;">See scores of Civil War era soldiers in uniform demonstrating a realistic encampment <br />in historic Congress Park <br />in Saratoga Springs\, New York.<br />For more information contact:<br /></span></p>\n<div><span style="font-size: medium\;">Lance Ingmire</span></div>\n<div><span style="font-size: medium\;">1-800-381-5445</span></div>\n<div><span style="font-size: medium\;">518-584-2244</span></div>\n<p><span style="font-size: medium\;"><a href="http://www.saratogacivilwarencampment.org/">http://www.saratogacivilwarencampment.org/</a></span></p>
LOCATION:Congress Park\, Saratoga Springs
UID:e.2254.3884
SEQUENCE:3
DTSTAMP:20260424T111038Z
URL:https://chamber.saratoga.org/events/details/saratoga-springs-civil-war-encampment-09-11-2014-09-11-2014-3884
END:VEVENT

END:VCALENDAR
