BEGIN:VCALENDAR
VERSION:2.0
PRODID:-//ChamberMaster//Event Calendar 2.0//EN
METHOD:PUBLISH
X-PUBLISHED-TTL:P3D
REFRESH-INTERVAL:P3D
CALSCALE:GREGORIAN
BEGIN:VEVENT
DTSTART:20170121T150000Z
DTEND:20170121T170000Z
X-MICROSOFT-CDO-ALLDAYEVENT:FALSE
SUMMARY:Saratoga Springs Area Preschool Fair
DESCRIPTION:SARATOGA SPRINGS AREA PRESCHOOL FAIR\n\n \n\nSaturday\, January 21\, 2017\n\n \n\n10:00 am -12:00 pm\n\n \n\nSaratoga Springs Public Library\n\n49 Henry Street\n\nSaratoga Springs\, NY 12866\n\n \n\nOver 20 preschools will be participating!\n\n \n\nCo-hosted by the Waldorf School\n\nand Saratoga Springs Public Library\n\n\n\nFor more information:\n\nadmissions@waldorfsaratoga.org OR 518-587-2224\n\nwww.waldorfsaratoga.org\n\nwww.sspl.org
X-ALT-DESC;FMTTYPE=text/html:<div style="text-align: center\;"><span style="font-family: tahoma\;"><strong><span style="color: rgb(49\, 51\, 50)\;"><span style="font-size: 18pt\;">SARATOGA SPRINGS AREA PRESCHOOL FAIR</span></span></strong><br />\n&nbsp\;<br />\n<strong><span style="color: rgb(49\, 51\, 50)\;"><span style="font-size: 18pt\;">Saturday\, January 21\, 2017</span></span></strong><br />\n&nbsp\;<br />\n<strong><span style="color: rgb(49\, 51\, 50)\;"><span style="font-size: 18pt\;">10:00 am -12:00 pm</span></span></strong><br />\n&nbsp\;<br />\n<strong><span style="color: rgb(49\, 51\, 50)\;"><span style="font-size: 18pt\;">Saratoga Springs Public Library</span></span></strong><br />\n<strong><span style="color: rgb(49\, 51\, 50)\;"><span style="font-size: 18pt\;">49 Henry Street</span></span></strong><br />\n<strong><span style="color: rgb(49\, 51\, 50)\;"><span style="font-size: 18pt\;">Saratoga Springs\, NY 12866</span></span></strong><br />\n&nbsp\;<br />\n<strong><span style="color: rgb(49\, 51\, 50)\;"><span style="font-size: 18pt\;">Over 20 preschools will be participating!</span></span></strong><br />\n&nbsp\;<br />\n<strong><span style="color: rgb(49\, 51\, 50)\;"><span style="font-size: 18pt\;">Co-hosted by the Waldorf School<br />\nand Saratoga Springs Public Library</span></span></strong><br />\n<br />\n<strong><span style="color: rgb(49\, 51\, 50)\;"><span style="font-size: 18pt\;">For more information:</span></span></strong><br />\n<strong><span style="color: rgb(49\, 51\, 50)\;"><span style="font-size: 18pt\;">admissions@waldorfsaratoga.org OR 518-587-2224</span></span></strong><br />\n<strong><span style="color: rgb(49\, 51\, 50)\;"><span style="font-size: 18pt\;">www.waldorfsaratoga.org</span></span></strong><br />\n<strong><span style="color: rgb(49\, 51\, 50)\;"><span style="font-size: 18pt\;">www.sspl.org</span></span></strong><br />\n&nbsp\;</span></div>\n
LOCATION:Saratoga Springs Public Library H. Dutcher Community Room 49 Henry Street Saratoga Springs\, NY 12866
UID:e.2254.21855
SEQUENCE:3
DTSTAMP:20260420T153129Z
URL:https://chamber.saratoga.org/events/details/saratoga-springs-area-preschool-fair-21855
END:VEVENT

END:VCALENDAR
