BEGIN:VCALENDAR
VERSION:2.0
PRODID:-//ChamberMaster//Event Calendar 2.0//EN
METHOD:PUBLISH
X-PUBLISHED-TTL:P3D
REFRESH-INTERVAL:P3D
CALSCALE:GREGORIAN
BEGIN:VEVENT
DTSTART:20150124T150000Z
DTEND:20150124T170000Z
X-MICROSOFT-CDO-ALLDAYEVENT:FALSE
SUMMARY:Saratoga Springs Area Preschool Fair
DESCRIPTION:SARATOGA SPRINGS AREA PRESCHOOL FAIR\n\nSaturday\, January 24\, 2015\n\n10:00 AM - 12:00 PM\n\nSaratoga Springs Public Library\n\nH. Dutcher Community Room\n\n49 Henry Street\n\nThere will be 20 local preschools available to meet and greet you!\n\nProudly sponsored by:\n\nWaldorf School of Saratoga Springs & Saratoga Springs Public Library
X-ALT-DESC;FMTTYPE=text/html:<p>SARATOGA SPRINGS AREA PRESCHOOL FAIR</p>\n\n<p>Saturday\, January 24\, 2015</p>\n\n<p>10:00 AM - 12:00 PM</p>\n\n<p>Saratoga Springs Public Library</p>\n\n<p>H. Dutcher Community Room</p>\n\n<p>49 Henry Street</p>\n\n<p>There will be 20 local preschools available to meet and greet you!</p>\n\n<p>Proudly sponsored by:</p>\n\n<p>Waldorf School of Saratoga Springs &amp\; Saratoga Springs Public Library&nbsp\;</p>\n\n<p>&nbsp\;</p>\n\n<p>&nbsp\;</p>\n
LOCATION:Saratoga Springs Public Library
UID:e.2254.4925
SEQUENCE:3
DTSTAMP:20260424T015343Z
URL:https://chamber.saratoga.org/events/details/saratoga-springs-area-preschool-fair-01-24-2015-4925
END:VEVENT

END:VCALENDAR
