BEGIN:VCALENDAR
VERSION:2.0
PRODID:-//ChamberMaster//Event Calendar 2.0//EN
METHOD:PUBLISH
X-PUBLISHED-TTL:P3D
REFRESH-INTERVAL:P3D
CALSCALE:GREGORIAN
BEGIN:VEVENT
DTSTART:20150423T213000Z
DTEND:20150423T230000Z
X-MICROSOFT-CDO-ALLDAYEVENT:FALSE
SUMMARY:Saratoga Sings of Art and Inspiration
DESCRIPTION:Opera Saratoga\, in partnership with three of the region's most respected visual arts organizations\, will present Saratoga Sings of Art and Inspiration as part of the company's commitment to provide free access to opera and song to the community. A series of three concerts will take place\, throughout the month of April\, at venues including: the Frances Young Tang Teaching Museum and Art Gallery\, the Lower Adirondack Regional Arts Council (LARAC) and the Albany Institute of History & Art. Events take place on April 23 (5:30pm)\, April 29 (5:30pm) and April 30 (6:00pm).
X-ALT-DESC;FMTTYPE=text/html:Opera Saratoga\, in partnership with three of the region&#39\;s most respected visual arts organizations\, will present Saratoga Sings of Art and Inspiration as part of the company&#39\;s commitment to provide free access to opera and song to the community. A series of three concerts will take place\, throughout the month of April\, at venues including: the Frances Young Tang Teaching Museum and Art Gallery\, the Lower Adirondack Regional Arts Council (LARAC) and the Albany Institute of History &amp\; Art. Events take place on April 23 (5:30pm)\, April 29 (5:30pm) and April 30 (6:00pm).
LOCATION:Tang\, LARAC\, Albany Institute of History & Art
UID:e.2254.7709
SEQUENCE:3
DTSTAMP:20260423T182219Z
URL:https://chamber.saratoga.org/events/details/saratoga-sings-of-art-and-inspiration-04-23-2015-7709
END:VEVENT

END:VCALENDAR
