BEGIN:VCALENDAR
VERSION:2.0
PRODID:-//ChamberMaster//Event Calendar 2.0//EN
METHOD:PUBLISH
X-PUBLISHED-TTL:P3D
REFRESH-INTERVAL:P3D
CALSCALE:GREGORIAN
BEGIN:VEVENT
DTSTART:20160924T140000Z
DTEND:20160924T190000Z
X-MICROSOFT-CDO-ALLDAYEVENT:FALSE
SUMMARY:Saratoga Senior Center Open House
DESCRIPTION:Free and Open to the public! All ages welcome. \n\n\n\nTry free exercise classes\, art activity\, outdoor games (weather permitting).\n\n\n\nTarot card readings\, massage.\n\n\n\nMusical entertainment by Saratoga Children's Theater\, Steve Keller - a pianist and vocalist who is influenced by  Frank Sinatra and Mel Torm  on the vocal side.\n\nStories and photos of the History of Saratoga by Charles Kuenzel and Dave Patterson.\n\nIce Cream tastings provided by Stewart's. And much more!
X-ALT-DESC;FMTTYPE=text/html:<p><span style="color: rgb(67\, 67\, 67)\; font-family: tahoma\,sans-serif\;">Free and Open to the public! All ages welcome.&nbsp\;</span><br />\n<br />\n<span style="color: rgb(67\, 67\, 67)\; font-family: tahoma\,sans-serif\;">Try free exercise classes\, art activity\, outdoor games (weather permitting).</span><br />\n<br />\n<span style="color: rgb(67\, 67\, 67)\; font-family: tahoma\,sans-serif\;">Tarot card readings\, massage.</span><br />\n<br />\n<span style="color: rgb(67\, 67\, 67)\; font-family: tahoma\,sans-serif\;">Musical entertainment by Saratoga Children&#39\;s Theater\, Steve Keller - a pianist and vocalist who is influenced by&nbsp\; Frank Sinatra and Mel Torm&eacute\; on the vocal side.</span></p>\n\n<p><span style="color: rgb(67\, 67\, 67)\; font-family: tahoma\,sans-serif\;">Stories and photos of the History of Saratoga by Charles Kuenzel and Dave Patterson.</span></p>\n\n<p><span style="color: rgb(67\, 67\, 67)\; font-family: tahoma\,sans-serif\;">Ice Cream tastings provided by Stewart&#39\;s. And much more!</span></p>\n
LOCATION:Adult & Senior Center of Saratoga 5 Williams Street\, Saratoga Springs\, NY 12866
UID:e.2254.17307
SEQUENCE:3
DTSTAMP:20260420T232257Z
URL:https://chamber.saratoga.org/events/details/saratoga-senior-center-open-house-09-24-2016-17307
END:VEVENT

END:VCALENDAR
