BEGIN:VCALENDAR
VERSION:2.0
PRODID:-//ChamberMaster//Event Calendar 2.0//EN
METHOD:PUBLISH
X-PUBLISHED-TTL:P3D
REFRESH-INTERVAL:P3D
CALSCALE:GREGORIAN
BEGIN:VEVENT
DTSTART:20160912T140000Z
DTEND:20160912T160000Z
X-MICROSOFT-CDO-ALLDAYEVENT:FALSE
SUMMARY:Saratoga Senior Center Health Screenings
DESCRIPTION:Free and open to the public.\n\nBlood pressure\, glucose\, cholesterol testing and more.
X-ALT-DESC;FMTTYPE=text/html:<p><span style="color: rgb(67\, 67\, 67)\; font-family: tahoma\,sans-serif\;">&nbsp\;Free and open to the public.</span></p>\n\n<p><span style="color: rgb(67\, 67\, 67)\; font-family: tahoma\,sans-serif\;">Blood pressure\, glucose\, cholesterol testing and more.&nbsp\;</span></p>\n
LOCATION:Adult & Senior Center of Saratoga 5 Williams Street\, Saratoga Springs\, NY 12866
UID:e.2254.17308
SEQUENCE:3
DTSTAMP:20260420T232441Z
URL:https://chamber.saratoga.org/events/details/saratoga-senior-center-health-screenings-09-12-2016-17308
END:VEVENT

END:VCALENDAR
