BEGIN:VCALENDAR
VERSION:2.0
PRODID:-//ChamberMaster//Event Calendar 2.0//EN
METHOD:PUBLISH
X-PUBLISHED-TTL:P3D
REFRESH-INTERVAL:P3D
CALSCALE:GREGORIAN
BEGIN:VEVENT
DTSTART:20160227T200000Z
DTEND:20160228T030000Z
X-MICROSOFT-CDO-ALLDAYEVENT:FALSE
SUMMARY:Saratoga Pub Crawl - Crawlin' for a Cause
DESCRIPTION:Pub Crawl Starts at Dango's on Caroline Street at 3pm. $30 pp includes buffet at start and again at end.  \n\nSchedule:  \n\n3pm Dango's ---- Buffet\n\n4pm Bailey's Cafe\n\n5pm Perry's\n\n6pm Caroline Street Bar\n\n7pm City Tavern\n\n8pm Clancy's\n\n9pm Dango's.  ---- Buffet \n\n\n\nDrink specials along the crawl\n\nBenefits South High Marathon Dance 2016 \n\nSign up at Dango's
X-ALT-DESC;FMTTYPE=text/html:Pub Crawl Starts at Dango&#39\;s on Caroline Street at 3pm. $30 pp includes buffet at start and again at end. &nbsp\;<br />\nSchedule: &nbsp\;<br />\n3pm Dango&#39\;s ---- Buffet<br />\n4pm Bailey&#39\;s Cafe<br />\n5pm Perry&#39\;s<br />\n6pm Caroline Street Bar<br />\n7pm City Tavern<br />\n8pm Clancy&#39\;s<br />\n9pm Dango&#39\;s. &nbsp\;---- Buffet&nbsp\;<br />\n<br />\nDrink specials along the crawl<br />\nBenefits South High Marathon Dance 2016&nbsp\;<br />\nSign up at Dango&#39\;s
LOCATION:Dango's on Caroline Street
UID:e.2254.14920
SEQUENCE:3
DTSTAMP:20260422T022513Z
URL:https://chamber.saratoga.org/events/details/saratoga-pub-crawl-crawlin-for-a-cause-02-27-2016-14920
END:VEVENT

END:VCALENDAR
