BEGIN:VCALENDAR
VERSION:2.0
PRODID:-//ChamberMaster//Event Calendar 2.0//EN
METHOD:PUBLISH
X-PUBLISHED-TTL:P3D
REFRESH-INTERVAL:P3D
CALSCALE:GREGORIAN
BEGIN:VEVENT
DTSTART:20161113T180000Z
DTEND:20161113T220000Z
X-MICROSOFT-CDO-ALLDAYEVENT:FALSE
SUMMARY:Saratoga Polka Fusion
DESCRIPTION:Polka Dance\, with Buffalo Concertina All Stars\, from Buffalo\, NY A seven piece award wing group\, open to public
X-ALT-DESC;FMTTYPE=text/html:Polka Dance\, with Buffalo Concertina All Stars\, from Buffalo\, NY A seven piece award wing group\, open to public
LOCATION:Saratoga K of C 50 Pine road Saratoga\, NY
UID:e.2254.20742
SEQUENCE:3
DTSTAMP:20260420T214620Z
URL:https://chamber.saratoga.org/events/details/saratoga-polka-fusion-20742
END:VEVENT

END:VCALENDAR
