BEGIN:VCALENDAR
VERSION:2.0
PRODID:-//ChamberMaster//Event Calendar 2.0//EN
METHOD:PUBLISH
X-PUBLISHED-TTL:P3D
REFRESH-INTERVAL:P3D
CALSCALE:GREGORIAN
BEGIN:VEVENT
DTSTART:20160918T114500Z
DTEND:20160918T160000Z
X-MICROSOFT-CDO-ALLDAYEVENT:FALSE
SUMMARY:Saratoga Palio Melanie Merola O'Donnell Memorial Race
DESCRIPTION:The Saratoga Palio is fast becoming a regional favorite\, thanks to its breathtaking course through the heart of Saratoga Springs and for the great cause it supports. And with a certified 5K run/walk\, a children's run\, and a certified half marathon\, the Palio is as exciting for families as it is for serious runners.Over the past few years\, this race has grown to attract participants and spectators from around Saratoga\, the Capital Region\, and across the nation. The event features an inspiring course through scenic Saratoga Springs\, including Saratoga Spa State Park and many parts of downtown. This event was established to honor the inspiring life of Melanie Merola O'Donnell. Each year a scholarship is given in her name to an outstanding post-graduate student in the field of mental health. In addition to the scholarship fund\, The Melanie Foundation will be making a donation to support Shelters of Saratoga. Shelters of Saratoga assists individuals who are homeless or at-risk of homelessness by offering a path to self-sufficiency and helping these individuals to get back on their feet. Volunteer opportunities available.
X-ALT-DESC;FMTTYPE=text/html:The Saratoga Palio is fast becoming a regional favorite\, thanks to its breathtaking course through the heart of Saratoga Springs and for the great cause it supports. And with a certified 5K run/walk\, a children&rsquo\;s run\, and a certified half marathon\, the Palio is as exciting for families as it is for serious runners.Over the past few years\, this race has grown to attract participants and spectators from around Saratoga\, the Capital Region\, and across the nation. The event features an inspiring course through scenic Saratoga Springs\, including Saratoga Spa State Park and many parts of downtown. This event was established to honor the inspiring life of Melanie Merola O&rsquo\;Donnell. Each year a scholarship is given in her name to an outstanding post-graduate student in the field of mental health. In addition to the scholarship fund\, The Melanie Foundation will be making a donation to support Shelters of Saratoga. Shelters of Saratoga assists individuals who are homeless or at-risk of homelessness by offering a path to self-sufficiency and helping these individuals to get back on their feet. Volunteer opportunities available.
LOCATION:Start: Broadway near City Center End: Congress Park
UID:e.2254.17241
SEQUENCE:3
DTSTAMP:20260420T232458Z
URL:https://chamber.saratoga.org/events/details/saratoga-palio-melanie-merola-o-donnell-memorial-race-09-18-2016-17241
END:VEVENT

END:VCALENDAR
