BEGIN:VCALENDAR
VERSION:2.0
PRODID:-//ChamberMaster//Event Calendar 2.0//EN
METHOD:PUBLISH
X-PUBLISHED-TTL:P3D
REFRESH-INTERVAL:P3D
CALSCALE:GREGORIAN
BEGIN:VEVENT
DTSTART:20140503T110000Z
DTEND:20141029T020000Z
X-MICROSOFT-CDO-ALLDAYEVENT:FALSE
SUMMARY:Saratoga Outdoor Farmers Market - 05/03/2014
DESCRIPTION:Saratoga Farmers Market open every Saturday 9 a.m. -1 p.m.\, Wednesdays 3 p.m.-6 p.m.We provide Saratoga County with high-quality local food and agricultural products direct from the farmers and producers.\nSaratoga Farmers' Market -  http://www.saratogafarmersmarket.org/
X-ALT-DESC;FMTTYPE=text/html:<p>Saratoga Farmers Market open every Saturday 9 a.m. -1 p.m.\, Wednesdays 3 p.m.-6 p.m.</p><p>We provide Saratoga County with high-quality local food and agricultural products direct from the farmers and producers.</p>\n<p>Saratoga Farmers' Market&nbsp\;- &nbsp\;<a href="http://www.saratogafarmersmarket.org/">http://www.saratogafarmersmarket.org/</a></p>
LOCATION:
UID:e.2254.1938
SEQUENCE:3
DTSTAMP:20260424T093723Z
URL:https://chamber.saratoga.org/events/details/saratoga-outdoor-farmers-market-05-03-2014-05-03-2014-1938
END:VEVENT

END:VCALENDAR
