BEGIN:VCALENDAR
VERSION:2.0
PRODID:-//ChamberMaster//Event Calendar 2.0//EN
METHOD:PUBLISH
X-PUBLISHED-TTL:P3D
REFRESH-INTERVAL:P3D
CALSCALE:GREGORIAN
BEGIN:VEVENT
DTSTART:20161008T150000Z
DTEND:20161008T200000Z
X-MICROSOFT-CDO-ALLDAYEVENT:FALSE
SUMMARY:Saratoga International Flavorfeast
DESCRIPTION:Saratoga Springs\, NY is unique for many reasons\, but a big draw that doesn't get the recognition it deserves is the vast ethnic cuisines this city offers. On October 8\, 2016\, Saratoga Food Fanatic and Network Saratoga are teaming up to celebrate the International cuisine by hosting the third annual Saratoga International Flavorfeast! From 11am to 4pm\, participate in this culinary adventure as you sample cuisines that are specific to each participating restaurant! Admission is FREE\, and samples are just $1 at each restaurant. For more information\, visit www.saratogaflavorfeast.com
X-ALT-DESC;FMTTYPE=text/html:Saratoga Springs\, NY is unique for many reasons\, but a big draw that doesn&#39\;t get the recognition it deserves is the vast ethnic cuisines this city offers. On October 8\, 2016\, Saratoga Food Fanatic and Network Saratoga are teaming up to celebrate the International cuisine by hosting the third annual Saratoga International Flavorfeast! From 11am to 4pm\, participate in this culinary adventure as you sample cuisines that are specific to each participating restaurant! Admission is FREE\, and samples are just $1 at each restaurant. For more information\, visit www.saratogaflavorfeast.com
LOCATION:395 Broadway Downtown Saratoga Springs
UID:e.2254.17585
SEQUENCE:3
DTSTAMP:20260420T232200Z
URL:https://chamber.saratoga.org/events/details/saratoga-international-flavorfeast-10-08-2016-17585
END:VEVENT

END:VCALENDAR
