BEGIN:VCALENDAR
VERSION:2.0
PRODID:-//ChamberMaster//Event Calendar 2.0//EN
METHOD:PUBLISH
X-PUBLISHED-TTL:P3D
REFRESH-INTERVAL:P3D
CALSCALE:GREGORIAN
BEGIN:VEVENT
DTSTART;VALUE=DATE:20160620
DTEND;VALUE=DATE:20160621
TRANSP:TRANSPARENT
X-MICROSOFT-CDO-ALLDAYEVENT:TRUE
SUMMARY:Saratoga Hospital's Golf Invitational
DESCRIPTION:Saratoga Hospital's Annual Golf Invitational combines a spectacular day of golf at the award-winning Saratoga National Golf Club to benefit our RN Scholarship Program. Come golf with the areas top business leaders!
X-ALT-DESC;FMTTYPE=text/html:Saratoga Hospital&#39\;s Annual Golf Invitational combines a spectacular day of golf at the award-winning Saratoga National Golf Club to benefit our RN Scholarship Program. Come golf with the areas top business leaders!
LOCATION:Saratoga National Golf Club 458 Union Avenue Saratoga Springs\, NY 12866
UID:e.2254.16809
SEQUENCE:3
DTSTAMP:20260421T080658Z
URL:https://chamber.saratoga.org/events/details/saratoga-hospital-s-golf-invitational-06-20-2016-16809
END:VEVENT

END:VCALENDAR
