BEGIN:VCALENDAR
VERSION:2.0
PRODID:-//ChamberMaster//Event Calendar 2.0//EN
METHOD:PUBLISH
X-PUBLISHED-TTL:P3D
REFRESH-INTERVAL:P3D
CALSCALE:GREGORIAN
BEGIN:VEVENT
DTSTART:20161126T150000Z
DTEND:20161126T213000Z
X-MICROSOFT-CDO-ALLDAYEVENT:FALSE
SUMMARY:Saratoga Holiday Craft Marketplace
DESCRIPTION:The 41st annual Saratoga Holiday Craft Marketplace is Saturday November 26th at the Saratoga Springs City Center from 10AM to 4:30PM. Come celebrate Small Business Saturday at our show and downtown Saratoga Springs. This event benefits the Saratoga Center for the Family to prevent and treat child abuse & neglect in Saratoga County.
X-ALT-DESC;FMTTYPE=text/html:The 41st annual Saratoga Holiday Craft Marketplace is Saturday November 26th at the Saratoga Springs City Center from 10AM to 4:30PM. Come celebrate Small Business Saturday at our show and downtown Saratoga Springs. This event benefits the Saratoga Center for the Family to prevent and treat child abuse &amp\; neglect in Saratoga County.
LOCATION:Saratoga Springs City Center 522 Broadway Saratoga Springs\, NY 12866
UID:e.2254.20766
SEQUENCE:3
DTSTAMP:20260420T202023Z
URL:https://chamber.saratoga.org/events/details/saratoga-holiday-craft-marketplace-20766
END:VEVENT

END:VCALENDAR
