BEGIN:VCALENDAR
VERSION:2.0
PRODID:-//ChamberMaster//Event Calendar 2.0//EN
METHOD:PUBLISH
X-PUBLISHED-TTL:P3D
REFRESH-INTERVAL:P3D
CALSCALE:GREGORIAN
BEGIN:VEVENT
DTSTART:20160213T000000Z
DTEND:20160214T223000Z
X-MICROSOFT-CDO-ALLDAYEVENT:FALSE
SUMMARY:Saratoga Hilton & City Center Presents: Dance Flurry 2016
DESCRIPTION:Dance Flurry Festival Headquarters: Saratoga Hilton & City Center 534 Broadway Saratoga Springs\, New York 12866 Tickets: www.flurryfestival.org Advance Ticket Discounts On Sale Through January 25\, 2016
X-ALT-DESC;FMTTYPE=text/html:Dance Flurry Festival Headquarters: Saratoga Hilton &amp\; City Center 534 Broadway Saratoga Springs\, New York 12866 Tickets: www.flurryfestival.org Advance Ticket Discounts On Sale Through January 25\, 2016
LOCATION:Festival Headquarters: Saratoga Hilton & City Center 534 Broadway Saratoga Springs\, New York 12866
UID:e.2254.13543
SEQUENCE:3
DTSTAMP:20260422T022744Z
URL:https://chamber.saratoga.org/events/details/saratoga-hilton-city-center-presents-dance-flurry-2016-02-12-2016-13543
END:VEVENT

END:VCALENDAR
