BEGIN:VCALENDAR
VERSION:2.0
PRODID:-//ChamberMaster//Event Calendar 2.0//EN
METHOD:PUBLISH
X-PUBLISHED-TTL:P3D
REFRESH-INTERVAL:P3D
CALSCALE:GREGORIAN
BEGIN:VEVENT
DTSTART:20150807T190000Z
DTEND:20150807T210000Z
X-MICROSOFT-CDO-ALLDAYEVENT:FALSE
SUMMARY:Saratoga Harp Colony: "Play with the Pros" Concerto Competition
DESCRIPTION:Saratoga Harp Colony: "Play with the Pros" Concerto Competition 3 p.m.- Arthur Zankel Music Center\, ELM Hall Free and open to the public. For more information call 518-580-5590
X-ALT-DESC;FMTTYPE=text/html:Saratoga Harp Colony: &quot\;Play with the Pros&quot\; Concerto Competition 3 p.m.- Arthur Zankel Music Center\, ELM Hall Free and open to the public. For more information call 518-580-5590
LOCATION:Arthur Zankel Music Center\, ELM Hall Skidmore College 815 N Broadway Saratoga Springs\, NY 12866
UID:e.2254.10175
SEQUENCE:3
DTSTAMP:20260423T024059Z
URL:https://chamber.saratoga.org/events/details/saratoga-harp-colony-play-with-the-pros-concerto-competition-08-07-2015-10175
END:VEVENT

END:VCALENDAR
