BEGIN:VCALENDAR
VERSION:2.0
PRODID:-//ChamberMaster//Event Calendar 2.0//EN
METHOD:PUBLISH
X-PUBLISHED-TTL:P3D
REFRESH-INTERVAL:P3D
CALSCALE:GREGORIAN
BEGIN:VEVENT
DTSTART:20140813T160000Z
DTEND:20140813T193000Z
X-MICROSOFT-CDO-ALLDAYEVENT:FALSE
SUMMARY:Saratoga Harp Colony - 08/13/2014
DESCRIPTION:Master Teacher Series Master Class2-5:30 p.m.-Arthur Zankel Music Center\, ELM For more information call 518-580-5546
X-ALT-DESC;FMTTYPE=text/html:<p>Master Teacher Series Master Class</p><p>2-5:30 p.m.-Arthur Zankel Music Center\, ELM</p> <span style="font-size: 12pt\; font-family: Times New Roman\,serif\;">For more information call 518-580-5546</span>
LOCATION:Arthur Zankel Music Center\, Skidmore College
UID:e.2254.3445
SEQUENCE:3
DTSTAMP:20260424T140259Z
URL:https://chamber.saratoga.org/events/details/saratoga-harp-colony-08-13-2014-08-13-2014-3445
END:VEVENT

END:VCALENDAR
