BEGIN:VCALENDAR
VERSION:2.0
PRODID:-//ChamberMaster//Event Calendar 2.0//EN
METHOD:PUBLISH
X-PUBLISHED-TTL:P3D
REFRESH-INTERVAL:P3D
CALSCALE:GREGORIAN
BEGIN:VEVENT
DTSTART:20140808T160000Z
DTEND:20140808T200000Z
X-MICROSOFT-CDO-ALLDAYEVENT:FALSE
SUMMARY:Saratoga Harp Colony - 08/08/2014
DESCRIPTION:"Play with the Pros" Concerto Competition2 p.m.- Arthur Zankel Music Center\, ELM Hall Free and open to the public. For more information call 518-580-5546
X-ALT-DESC;FMTTYPE=text/html:<p>"Play with the Pros" Concerto Competition</p><p>2 p.m.- Arthur Zankel Music Center\, ELM Hall</p> <p>Free and open to the public.</p> <span style="font-size: 12pt\; font-family: Times New Roman\,serif\;">For more information call 518-580-5546</span>
LOCATION:Arthur Zankel Music Center\, Skidmore College
UID:e.2254.3434
SEQUENCE:3
DTSTAMP:20260424T140352Z
URL:https://chamber.saratoga.org/events/details/saratoga-harp-colony-08-08-2014-08-08-2014-3434
END:VEVENT

END:VCALENDAR
