BEGIN:VCALENDAR
VERSION:2.0
PRODID:-//ChamberMaster//Event Calendar 2.0//EN
METHOD:PUBLISH
X-PUBLISHED-TTL:P3D
REFRESH-INTERVAL:P3D
CALSCALE:GREGORIAN
BEGIN:VEVENT
DTSTART;VALUE=DATE:20150828
DTEND;VALUE=DATE:20150829
TRANSP:TRANSPARENT
X-MICROSOFT-CDO-ALLDAYEVENT:TRUE
SUMMARY:Saratoga EOC Food Drive
DESCRIPTION:Race to the Finish Line to End Hunger! Friday\, August 28th at the Saratoga Race Track's Community Booth\, Saratoga EOC will have an information table along with a food drive. For every 3 non perishables that you bring in\, you get a free giveaway from the track!! Suggested items include: shampoo\, conditioner\, toothpaste\, pasta\, peanut butter\, cereal\, rice\, soup and vegetables.
X-ALT-DESC;FMTTYPE=text/html:Race to the Finish Line to End Hunger! Friday\, August 28th at the Saratoga Race Track&#39\;s Community Booth\, Saratoga EOC will have an information table along with a food drive. For every 3 non perishables that you bring in\, you get a free giveaway from the track!! Suggested items include: shampoo\, conditioner\, toothpaste\, pasta\, peanut butter\, cereal\, rice\, soup and vegetables.
LOCATION:Saratoga Rack Track Community Booth
UID:e.2254.10156
SEQUENCE:3
DTSTAMP:20260423T023859Z
URL:https://chamber.saratoga.org/events/details/saratoga-eoc-food-drive-08-28-2015-10156
END:VEVENT

END:VCALENDAR
