BEGIN:VCALENDAR
VERSION:2.0
PRODID:-//ChamberMaster//Event Calendar 2.0//EN
METHOD:PUBLISH
X-PUBLISHED-TTL:P3D
REFRESH-INTERVAL:P3D
CALSCALE:GREGORIAN
BEGIN:VEVENT
DTSTART:20151202T223000Z
DTEND:20151203T003000Z
X-MICROSOFT-CDO-ALLDAYEVENT:FALSE
SUMMARY:Saratoga Economic Development Corporation Holiday Reception
DESCRIPTION:
X-ALT-DESC;FMTTYPE=text/html:
LOCATION:Holiday Inn Saratoga Springs
UID:e.2254.13076
SEQUENCE:3
DTSTAMP:20260422T081952Z
URL:https://chamber.saratoga.org/events/details/saratoga-economic-development-corporation-holiday-reception-12-02-2015-13076
END:VEVENT

END:VCALENDAR
