BEGIN:VCALENDAR
VERSION:2.0
PRODID:-//ChamberMaster//Event Calendar 2.0//EN
METHOD:PUBLISH
X-PUBLISHED-TTL:P3D
REFRESH-INTERVAL:P3D
CALSCALE:GREGORIAN
BEGIN:VEVENT
DTSTART:20170209T223000Z
DTEND:20170210T000000Z
X-MICROSOFT-CDO-ALLDAYEVENT:FALSE
SUMMARY:Saratoga County Small Business Workshop Series - Mechanicville
DESCRIPTION:Whether you're just starting your business\, experiencing your first growing pains\, or ready to move your business to the next level\, the Saratoga County Prosperity Partnership and partners are ready to assist you every step of the way in this process. Hear from experts on the top things you should know\, including business planning and expansion tools and small- to mid-size business finance options. The workshops will end with one-on-one sessions between the attendees and experts.
X-ALT-DESC;FMTTYPE=text/html:Whether you&rsquo\;re just starting your business\, experiencing your first growing pains\, or ready to move your business to the next level\, the Saratoga County Prosperity Partnership and partners are ready to assist you every step of the way in this process. Hear from experts on the top things you should know\, including business planning and expansion tools and small- to mid-size business finance options. The workshops will end with one-on-one sessions between the attendees and experts.
LOCATION:Mechanicville Elks Lodge 300 Park Ave\, Mechanicville\, NY 12118
UID:e.2254.22282
SEQUENCE:3
DTSTAMP:20260420T131901Z
URL:https://chamber.saratoga.org/events/details/saratoga-county-small-business-workshop-series-mechanicville-22282
END:VEVENT

END:VCALENDAR
