BEGIN:VCALENDAR
VERSION:2.0
PRODID:-//ChamberMaster//Event Calendar 2.0//EN
METHOD:PUBLISH
X-PUBLISHED-TTL:P3D
REFRESH-INTERVAL:P3D
CALSCALE:GREGORIAN
BEGIN:VEVENT
DTSTART:20161110T130000Z
DTEND:20161110T180000Z
X-MICROSOFT-CDO-ALLDAYEVENT:FALSE
SUMMARY:Saratoga County Prosperity SUMMIT
DESCRIPTION:The Saratoga County Prosperity Partnership will hold its inaugural economic development summit\, the Saratoga County Prosperity SUMMIT\, on Thursday\, November 10\, 2016 at the Saratoga Springs City Center. Designed for public officials from Saratoga County and members of the regional business community\, the summit will cover a variety of topics   from the state of economic development to case studies and community preparedness. Speakers will include economists\, elected officials\, and economic developers.
X-ALT-DESC;FMTTYPE=text/html:The Saratoga County Prosperity Partnership will hold its inaugural economic development summit\, the Saratoga County Prosperity SUMMIT\, on Thursday\, November 10\, 2016 at the Saratoga Springs City Center. Designed for public officials from Saratoga County and members of the regional business community\, the summit will cover a variety of topics &ndash\; from the state of economic development to case studies and community preparedness. Speakers will include economists\, elected officials\, and economic developers.
LOCATION:Saratoga Springs City Center
UID:e.2254.20802
SEQUENCE:3
DTSTAMP:20260420T200501Z
URL:https://chamber.saratoga.org/events/details/saratoga-county-prosperity-summit-20802
END:VEVENT

END:VCALENDAR
