BEGIN:VCALENDAR
VERSION:2.0
PRODID:-//ChamberMaster//Event Calendar 2.0//EN
METHOD:PUBLISH
X-PUBLISHED-TTL:P3D
REFRESH-INTERVAL:P3D
CALSCALE:GREGORIAN
BEGIN:VEVENT
DTSTART:20220308T210000Z
DTEND:20220308T220000Z
X-MICROSOFT-CDO-ALLDAYEVENT:FALSE
SUMMARY:Saratoga County Economic Briefing
DESCRIPTION:A special Zoom session on Tuesday\, March 8th\, from 4 to 5:00 p.m. At that time\, I will spend a few minutes sharing with you details from our latest Saratoga County Insiders Report. Several months ago\, we began compiling data to create and email this report. It includes the latest data on Saratoga County labor force\, sales tax collections\, hotel occupancy and residential real estate. The report contains charts showing trends and a description of what we believe is the most useful insight gained from this data.\n\n \n\nAfter this brief demonstration\, we'd love to hear from you as to the value of this information and what else we might include in future editions. Of course\, any insight you might offer about the trends you are seeing would be super helpful for us to hear and discuss as well. This will help us as we continue to be the most visible and vocal advocate and promoter of Saratoga County and every employer operating here.
X-ALT-DESC;FMTTYPE=text/html:A special Zoom session on Tuesday\, March 8<sup>th</sup>\, from 4 to 5:00 p.m. At that time\, I will spend a few minutes sharing with you details from our latest Saratoga County Insiders Report. Several months ago\, we began compiling data to create and email this report. It includes the latest data on Saratoga County labor force\, sales tax collections\, hotel occupancy and residential real estate. The report contains charts showing trends and a description of what we believe is the most useful insight gained from this data.<br />\n&nbsp\;<br />\nAfter this brief demonstration\, we&rsquo\;d love to hear from you as to the value of this information and what else we might include in future editions. Of course\, any insight you might offer about the trends you are seeing would be super helpful for us to hear and discuss as well. This will help us as we continue to be the most visible and vocal advocate and promoter of Saratoga County and every employer operating here.<br />\n&nbsp\;
LOCATION:Zoom
UID:e.2254.41757
SEQUENCE:3
DTSTAMP:20260421T183827Z
URL:https://chamber.saratoga.org/events/details/saratoga-county-economic-briefing-41757
END:VEVENT

END:VCALENDAR
