BEGIN:VCALENDAR
VERSION:2.0
PRODID:-//ChamberMaster//Event Calendar 2.0//EN
METHOD:PUBLISH
X-PUBLISHED-TTL:P3D
REFRESH-INTERVAL:P3D
CALSCALE:GREGORIAN
BEGIN:VEVENT
DTSTART:20150613T180000Z
DTEND:20150613T220000Z
X-MICROSOFT-CDO-ALLDAYEVENT:FALSE
SUMMARY:Saratoga County Brew Fest 2015
DESCRIPTION:Upstate New York's biggest and best craft beer festival is just around the corner! Join us for the 5th Annual Saratoga Brewfest on Saturday\, June 13th at the Saratoga County Fairgrounds.\n\n\n\nEnjoy unlimted sampling of over 150 beers from a variety of the country's best craft breweries!  Looking for some special treatment?  Grab yourself one of the limited VIP tickets and have the chance to sample limited quantity rare brews\, meet the brewers and enjoy an extra hour of fun.  As always there will live music\, various vendors and tons of delicious food!
X-ALT-DESC;FMTTYPE=text/html:Upstate New York&rsquo\;s biggest and best craft beer festival is just around the corner! Join us for the 5th Annual Saratoga Brewfest on Saturday\, June 13th at the Saratoga County Fairgrounds.<br />\n<br />\nEnjoy unlimted sampling of over 150 beers from a variety of the country&rsquo\;s best craft breweries! &nbsp\;Looking for some special treatment? &nbsp\;Grab yourself one of the limited VIP tickets and have the chance to sample limited quantity rare brews\, meet the brewers and enjoy an extra hour of fun. &nbsp\;As always there will live music\, various vendors and tons of delicious food!<br />\n<br />\n<br />\n<br />\n&nbsp\;
LOCATION:Saratoga County Fairgrounds
UID:e.2254.6130
SEQUENCE:3
DTSTAMP:20260423T073922Z
URL:https://chamber.saratoga.org/events/details/saratoga-county-brew-fest-2015-06-13-2015-6130
END:VEVENT

END:VCALENDAR
