BEGIN:VCALENDAR
VERSION:2.0
PRODID:-//ChamberMaster//Event Calendar 2.0//EN
METHOD:PUBLISH
X-PUBLISHED-TTL:P3D
REFRESH-INTERVAL:P3D
CALSCALE:GREGORIAN
BEGIN:VEVENT
DTSTART:20150120T170000Z
DTEND:20150120T223000Z
X-MICROSOFT-CDO-ALLDAYEVENT:FALSE
SUMMARY:Saratoga Bridges 24th Blood Drive
DESCRIPTION:Join us and the American Red Cross and help save lives at our January blood drive! All donors will recieve a $5 Dunkin Donuts gift card.\n \n Please contact Marissa Scally at 587-0723 ext. 1242 or mscally@saratogabridges.org to make an appointment. \n \n Feel free to pass the word to family\, friends & co-workers. Remember for every pint given\, up to 3 people’s lives are saved. \n \n Thanks for your ongoing support!
X-ALT-DESC;FMTTYPE=text/html:<span class="fsl">Join us and the <a aria-haspopup="true" id="js_1v" aria-owns="js_1u" href="https://www.facebook.com/redcross" data-hovercard="/ajax/hovercard/page.php?id=24472055070">American Red Cross</a> and help save lives at our January blood drive! All donors will recieve a $5 Dunkin Donuts gift card.<br> <br><span> Please contact Marissa Scally at 587-0723 ext. 1242 or mscally@saratogabridges.or</span><wbr><span class="word_break"></span>g to make an appointment. <br> <br> Feel free to pass the word to family\, friends &amp\; co-workers. Remember for every pint given\, up to 3 people’s lives are saved. <br> <br> Thanks for your ongoing support!</span>
LOCATION:Saratoga Bridges
UID:e.2254.4924
SEQUENCE:3
DTSTAMP:20260424T015337Z
URL:https://chamber.saratoga.org/events/details/saratoga-bridges-24th-blood-drive-01-20-2015-4924
END:VEVENT

END:VCALENDAR
