BEGIN:VCALENDAR
VERSION:2.0
PRODID:-//ChamberMaster//Event Calendar 2.0//EN
METHOD:PUBLISH
X-PUBLISHED-TTL:P3D
REFRESH-INTERVAL:P3D
CALSCALE:GREGORIAN
BEGIN:VEVENT
DTSTART:20170221T170000Z
DTEND:20170221T170000Z
X-MICROSOFT-CDO-ALLDAYEVENT:FALSE
SUMMARY:Saratoga Beer Week
DESCRIPTION:International gathering of world class beers and brewers\n\nJoin us as we celebrate BEER. Purchase a passport to get you into every event over the three day period or just a one day ticket to the Saratoga Beer Summit at the City Center. 40 plus events and dinner tastings to take place over the three days as well as a home brew exhibition day! Saratoga Cider Night takes place on February 24th at the City Center and Saratoga Beer Summit takes place on February 25th at the City Center.
X-ALT-DESC;FMTTYPE=text/html:<p>International gathering of world class beers and brewers</p>\n\n<p>Join us as we celebrate BEER. Purchase a passport to get you into every event over the three day period or just a one day ticket to the Saratoga Beer Summit at the City Center. 40 plus events and dinner tastings to take place over the three days as well as a home brew exhibition day! Saratoga Cider Night takes place on February 24th at the City Center and Saratoga Beer Summit takes place on February 25th at the City Center.</p>\n
LOCATION:Downtown Saratoga and The City Center 522 Broadway Saratoga Springs\, NY 12866
UID:e.2254.4190
SEQUENCE:3
DTSTAMP:20260420T101957Z
URL:https://chamber.saratoga.org/events/details/saratoga-beer-week-02-16-2016-4190
END:VEVENT

END:VCALENDAR
