BEGIN:VCALENDAR
VERSION:2.0
PRODID:-//ChamberMaster//Event Calendar 2.0//EN
METHOD:PUBLISH
X-PUBLISHED-TTL:P3D
REFRESH-INTERVAL:P3D
CALSCALE:GREGORIAN
BEGIN:VEVENT
DTSTART:20160618T160000Z
DTEND:20160619T000000Z
X-MICROSOFT-CDO-ALLDAYEVENT:FALSE
SUMMARY:Saratoga Balloon & BBQ Festival
DESCRIPTION:Join us for a family friendly event during one amazing weekend. 20 Hot Air Balloons with four liftoffs and the Best Balloon Glow in the U.S.!   Kids Activities including face painting\, airborne artwork\, and games. Live Entertainment & Music and delicious BBQ.  Balloon Launch is morning and evening ONLY
X-ALT-DESC;FMTTYPE=text/html:Join us for a family friendly event during one amazing weekend. 20 Hot Air Balloons with four liftoffs and the Best Balloon Glow in the U.S.!&nbsp\;&nbsp\;&nbsp\;Kids Activities including face painting\, airborne artwork\, and games. Live Entertainment &amp\; Music and delicious BBQ.&nbsp\; Balloon Launch is morning and evening ONLY
LOCATION:Saratoga County Fairgrounds 162 Prospect Street Ballston Spa\, NY 12020
UID:e.2254.12602
SEQUENCE:3
DTSTAMP:20260421T081027Z
URL:https://chamber.saratoga.org/events/details/saratoga-balloon-craft-festival-06-18-2016-12602
END:VEVENT

END:VCALENDAR
