BEGIN:VCALENDAR
VERSION:2.0
PRODID:-//ChamberMaster//Event Calendar 2.0//EN
METHOD:PUBLISH
X-PUBLISHED-TTL:P3D
REFRESH-INTERVAL:P3D
CALSCALE:GREGORIAN
BEGIN:VEVENT
DTSTART:20140828T110000Z
DTEND:20140828T143000Z
X-MICROSOFT-CDO-ALLDAYEVENT:FALSE
SUMMARY:Saratoga Arts' Saratoga Program for Arts Funding Informational Grants Seminar - 08/28/2014
DESCRIPTION:Saratoga Arts' Saratoga Program for Arts Funding Informational Grants SeminarSaratoga Arts' \nSaratoga Program for Arts Funding - Informational Grants SeminarAre you affiliated with a Saratoga County non-profit or municipality planning arts\, cultural\, or school programming for 2015? Or are you an individual artist wanting to create new work and engage your local community in your creative process? Attend an Informational Grant Seminar and learn how to apply for funding for your projects and programs!New and returning applicants are required to attend a seminar. If you are unable to attend a seminar\, individual appointments may also be arranged. Grant seminar preregistration is required. Please call 584-4132 to pre-register.  Please visit www.saratoga-arts.org/grants.Thursday\, August 28\, 2014Clifton Park Halfmoon Public Library475 Moe Road\, Clifton Park\, NY 128669:00am-10:00am\, Project Grants10:15am-11:15am\, Arts Education Grants11:30am-12:30pm\, Individual Artist Grants
X-ALT-DESC;FMTTYPE=text/html:<p>Saratoga Arts' Saratoga Program for Arts Funding Informational Grants Seminar</p><p style="color: rgb(34\, 34\, 34)\; font-family: arial\, sans-serif\; background-color: rgb(255\, 255\, 255)\;"><strong><font size="2"><span style="line-height: normal\;">Saratoga Arts'&nbsp\;<br></span></font></strong><strong style="font-size: 12px\; line-height: 16px\;">Saratoga Program for Arts Funding - Informational Grants Seminar</strong></p><div style="color: rgb(34\, 34\, 34)\; font-family: arial\, sans-serif\; font-size: 13px\; line-height: normal\; background-color: rgb(255\, 255\, 255)\;"><span style="margin: 0px\; padding: 0px\; border: 0px\; outline: 0px\; vertical-align: baseline\; background-image: initial\; background-repeat: initial\;"><p style="color: rgb(4\, 0\, 0)\; font-family: Arial\, Helvetica\, sans-serif\; line-height: 18px\; margin-bottom: 0px\; padding-bottom: 10px\; border: 0px\; outline: 0px\; vertical-align: baseline\; background-image: initial\; background-repeat: initial\;">Are you affiliated with a Saratoga County non-profit or municipality planning arts\, cultural\, or school programming for 2015? Or are you an individual artist wanting to create new work and engage your local community in your creative process? Attend an Informational Grant Seminar and learn how to apply for funding for your projects and programs!</p><p style="margin-bottom: 0px\; padding-bottom: 10px\; border: 0px\; outline: 0px\; vertical-align: baseline\; background-image: initial\; background-repeat: initial\;"><font color="#040000" face="Arial\, Helvetica\, sans-serif"><span style="line-height: 18px\;">New and returning applicants are required to attend a seminar. If you are unable to attend a seminar\, individual appointments may also be arranged.&nbsp\;</span></font><span style="color: rgb(4\, 0\, 0)\; font-family: Arial\, Helvetica\, sans-serif\; line-height: 18px\; margin: 0px\; padding: 0px\; border: 0px\; outline: 0px\; vertical-align: baseline\; background-image: initial\; background-repeat: initial\;">Grant seminar preregistration is required. Please call 584-4132 to pre-register. &nbsp\;Please visit&nbsp\;</span><font color="#040000" face="Arial\, Helvetica\, sans-serif"><span style="line-height: 18px\;"><a href="http://www.saratoga-arts.org/grants" target="_blank" style="color: rgb(17\, 85\, 204)\;">www.saratoga-arts.org/<wbr>grants</a>.</span></font></p></span><div style="padding-right: 2px\; border: 0px\; outline: 0px\; font-size: 12px\; vertical-align: baseline\; color: rgb(4\, 0\, 0)\; font-family: Arial\, Helvetica\, sans-serif\; line-height: 18px\; background-image: initial\; background-repeat: initial\;"><strong style="margin: 0px\; padding: 0px\; border: 0px\; outline: 0px\; vertical-align: baseline\; background: transparent\;">Thursday\, August 28\, 2014</strong></div><div class="im" style="color: rgb(80\, 0\, 80)\;"><div style="padding-right: 2px\; border: 0px\; outline: 0px\; font-size: 12px\; vertical-align: baseline\; color: rgb(4\, 0\, 0)\; font-family: Arial\, Helvetica\, sans-serif\; line-height: 18px\; background-image: initial\; background-repeat: initial\;"><u><strong style="margin: 0px\; padding: 0px\; border: 0px\; outline: 0px\; vertical-align: baseline\; background: transparent\;"><a href="http://www.cphlibrary.org/" target="_blank" style="color: rgb(96\, 120\, 144)\; margin: 0px\; padding: 0px\; vertical-align: baseline\; text-decoration: none\; background: transparent\;">Clifton Park Halfmoon Public Library</a></strong></u></div></div><div style="padding-right: 2px\; border: 0px\; outline: 0px\; font-size: 12px\; vertical-align: baseline\; color: rgb(4\, 0\, 0)\; font-family: Arial\, Helvetica\, sans-serif\; line-height: 18px\; background-image: initial\; background-repeat: initial\;">475 Moe Road\, Clifton Park\, NY 12866</div><div style="padding-right: 2px\; border: 0px\; outline: 0px\; font-size: 12px\; vertical-align: baseline\; color: rgb(4\, 0\, 0)\; font-family: Arial\, Helvetica\, sans-serif\; line-height: 18px\; background-image: initial\; background-repeat: initial\;">9:00am-10:00am\, Project Grants</div><div style="padding-right: 2px\; border: 0px\; outline: 0px\; font-size: 12px\; vertical-align: baseline\; color: rgb(4\, 0\, 0)\; font-family: Arial\, Helvetica\, sans-serif\; line-height: 18px\; background-image: initial\; background-repeat: initial\;">10:15am-11:15am\, Arts Education Grants</div><div style="padding-right: 2px\; border: 0px\; outline: 0px\; font-size: 12px\; vertical-align: baseline\; color: rgb(4\, 0\, 0)\; font-family: Arial\, Helvetica\, sans-serif\; line-height: 18px\; background-image: initial\; background-repeat: initial\;">11:30am-12:30pm\, Individual Artist Grants</div></div>
LOCATION:Clifton Park Halfmoon Public Library
UID:e.2254.3422
SEQUENCE:3
DTSTAMP:20260424T160110Z
URL:https://chamber.saratoga.org/events/details/saratoga-arts-saratoga-program-for-arts-funding-informational-grants-seminar-08-28-2014-08-28-2014-3422
END:VEVENT

END:VCALENDAR
