BEGIN:VCALENDAR
VERSION:2.0
PRODID:-//ChamberMaster//Event Calendar 2.0//EN
METHOD:PUBLISH
X-PUBLISHED-TTL:P3D
REFRESH-INTERVAL:P3D
CALSCALE:GREGORIAN
BEGIN:VEVENT
DTSTART:20150822T130000Z
DTEND:20150823T200000Z
X-MICROSOFT-CDO-ALLDAYEVENT:FALSE
SUMMARY:Saratoga Arts Celebration
DESCRIPTION:7th Annaul Saratoga Arts Celebration - a juried fine arts and crafts festival at the National Museum of Dance\n\n   7th Annual Saratoga Arts Celebration\n\nat the National Museum of Dance   \n\n                                                                99 South Broadway\, Saratoga Spa State Park Saratoga Springs\, NY\n\nAugust 22 and 23\, 2015\, Saturday and Sunday\, 10 a.m. to 5 p.m.\n\n The Saratoga Arts Celebration at the National Museum of Dance\, is a premier Arts Festival\, taking place on Saturday and Sunday\, August 22 and 23\, from 10 a.m. to 5 p.m.\,\n\nThe 7th Annual Saratoga Arts Celebration is a juried fine arts and fine crafts festival of visual and performing arts taking place August 22 and 23\, 2015 from 10 - 5\, Saturday and Sunday\, rain or shine.  The event is held at the National Museum of Dance in the Historic Saratoga Spa State Park\, 99 S. Broadway. The show is held on the great lawn as well as inside the Dance Museum and is timed with start of Traver's Festival week in Saratoga Springs.\n\nThe Arts Celebration is a juried arts fair featuring 100 invited artists selected locally and from across the country and Canada. Their paintings\, photography\, drawings\, prints\, sculptures\, mixed media\, jewelry\, ceramics\, fiber\, metal and glass pieces are all original works of art and are available for collecting in every price range.\n\nThe Festival includes live musical performances on both days\, as well as free hands-on children's arts activities and a variety of food temptations. Sunday there will be a Farmers Market to enjoy as well. It all happens rain or shine\, inside and under tents. Admission is free to both the Saratoga Arts Celebration and the National Museum of Dance.\n\nThere is plenty of free parking. Easy to reach via the                          Northway I-87 exit 13.                                                      \n\nFor more information see SaratogaArtsCelebration.org\n\nCome get inspired and Celebrate the Arts in Saratoga!
X-ALT-DESC;FMTTYPE=text/html:<p>7th Annaul Saratoga Arts Celebration - a juried fine arts and crafts festival at the National Museum of Dance</p>\n\n<p style="text-align: center\;"><strong>&nbsp\;&nbsp\;&nbsp\;<strong>7th Annual&nbsp\;</strong>Saratoga Arts Celebration</strong></p>\n\n<p style="text-align: center\;"><strong>at the National Museum of Dance&nbsp\;&nbsp\;&nbsp\;</strong></p>\n\n<p style="text-align: left\;">&nbsp\;&nbsp\;&nbsp\;&nbsp\;&nbsp\;&nbsp\;&nbsp\;&nbsp\;&nbsp\;&nbsp\;&nbsp\;&nbsp\;&nbsp\;&nbsp\;&nbsp\;&nbsp\;&nbsp\;&nbsp\;&nbsp\;&nbsp\;&nbsp\;&nbsp\;&nbsp\;&nbsp\;&nbsp\;&nbsp\;&nbsp\;&nbsp\;&nbsp\;&nbsp\;&nbsp\;&nbsp\;&nbsp\;&nbsp\;&nbsp\;&nbsp\;&nbsp\;&nbsp\;&nbsp\;&nbsp\;&nbsp\;&nbsp\;&nbsp\;&nbsp\;&nbsp\;&nbsp\;&nbsp\;&nbsp\;&nbsp\;&nbsp\;&nbsp\;&nbsp\;&nbsp\;&nbsp\;&nbsp\;&nbsp\;&nbsp\;&nbsp\;&nbsp\;&nbsp\;&nbsp\;&nbsp\; &nbsp\;99 South Broadway\, Saratoga Spa State Park&nbsp\;Saratoga Springs\, NY</p>\n\n<p>August&nbsp\;22 and 23\, 2015\, Saturday and Sunday\, 10 a.m. to 5 p.m.</p>\n\n<p>&nbsp\;The Saratoga Arts Celebration at the National Museum of Dance\, is a premier Arts Festival\, taking place on Saturday and Sunday\, August&nbsp\;22 and 23\, from 10 a.m. to 5 p.m.\,</p>\n\n<p>The 7th Annual Saratoga Arts Celebration is a juried fine arts and fine crafts festival of visual and performing arts taking place August 22 and 23\, 2015 from 10 - 5\, Saturday and Sunday\, rain or shine.&nbsp\; The event is held at the National Museum of Dance in the Historic Saratoga Spa State Park\, 99 S. Broadway. The show is held on the great lawn as well as inside the Dance Museum and is timed with start of Traver&rsquo\;s Festival week in Saratoga Springs.<br />\nThe Arts Celebration is a juried arts fair featuring 100 invited artists selected locally and from across the country and Canada. Their paintings\, photography\, drawings\, prints\, sculptures\, mixed media\, jewelry\, ceramics\, fiber\, metal and glass pieces are all original works of art and are available for collecting in every price range.<br />\nThe Festival includes live musical performances on both days\, as well as free hands-on children&rsquo\;s arts activities and a variety of food temptations. Sunday there will be a Farmers Market to enjoy as well. It all happens rain or shine\, inside and under tents. Admission is free to both the Saratoga Arts Celebration and the National Museum of Dance.</p>\n\n<p>There is plenty of free parking. Easy to reach via the&nbsp\;&nbsp\;&nbsp\;&nbsp\;&nbsp\;&nbsp\;&nbsp\;&nbsp\;&nbsp\;&nbsp\;&nbsp\;&nbsp\;&nbsp\;&nbsp\;&nbsp\;&nbsp\;&nbsp\;&nbsp\;&nbsp\;&nbsp\;&nbsp\;&nbsp\;&nbsp\;&nbsp\;&nbsp\; Northway I-87 exit 13.&nbsp\;&nbsp\;&nbsp\;&nbsp\;&nbsp\;&nbsp\;&nbsp\;&nbsp\;&nbsp\;&nbsp\;&nbsp\;&nbsp\;&nbsp\;&nbsp\;&nbsp\;&nbsp\;&nbsp\;&nbsp\;&nbsp\;&nbsp\;&nbsp\;&nbsp\;&nbsp\;&nbsp\;&nbsp\;&nbsp\;&nbsp\;&nbsp\;&nbsp\;&nbsp\;&nbsp\;&nbsp\;&nbsp\;&nbsp\;&nbsp\;&nbsp\;&nbsp\;&nbsp\;&nbsp\;&nbsp\;&nbsp\;&nbsp\;&nbsp\;&nbsp\;&nbsp\;&nbsp\;&nbsp\;&nbsp\;&nbsp\;&nbsp\;&nbsp\;&nbsp\;&nbsp\;&nbsp\;</p>\n\n<p>For more information see SaratogaArtsCelebration.org</p>\n\n<p>Come get inspired and Celebrate the Arts in Saratoga!</p>\n
LOCATION:National Museum of Dance
UID:e.2254.3567
SEQUENCE:3
DTSTAMP:20260423T023800Z
URL:https://chamber.saratoga.org/events/details/saratoga-arts-celebration-08-22-2015-3567
END:VEVENT

END:VCALENDAR
