BEGIN:VCALENDAR
VERSION:2.0
PRODID:-//ChamberMaster//Event Calendar 2.0//EN
METHOD:PUBLISH
X-PUBLISHED-TTL:P3D
REFRESH-INTERVAL:P3D
CALSCALE:GREGORIAN
BEGIN:VEVENT
DTSTART:20161217T163000Z
DTEND:20161217T190000Z
X-MICROSOFT-CDO-ALLDAYEVENT:FALSE
SUMMARY:Santa's Little Helper Luncheon
DESCRIPTION:Enjoy a kid friendly light lunch buffet\, decorate chef hats\, then throw on an apron as you frost\, sprinkle and design several Holiday Cookies for you to enjoy or even take home.
X-ALT-DESC;FMTTYPE=text/html:<div style="text-align: center\;">Enjoy a kid friendly light lunch buffet\, decorate chef hats\, then throw on an apron as you frost\, sprinkle and design several Holiday Cookies for you to enjoy or even take home.</div>\n
LOCATION:The Diamond Club Grill 518-886-1118 86 Congress Street Saratoga Springs\, New York 12866
UID:e.2254.21397
SEQUENCE:3
DTSTAMP:20260420T185209Z
URL:https://chamber.saratoga.org/events/details/santa-s-little-helper-luncheon-21397
END:VEVENT

END:VCALENDAR
