BEGIN:VCALENDAR
VERSION:2.0
PRODID:-//ChamberMaster//Event Calendar 2.0//EN
METHOD:PUBLISH
X-PUBLISHED-TTL:P3D
REFRESH-INTERVAL:P3D
CALSCALE:GREGORIAN
BEGIN:VEVENT
DTSTART:20160624T220000Z
DTEND:20160625T030000Z
X-MICROSOFT-CDO-ALLDAYEVENT:FALSE
SUMMARY:SAM Summer Gala
DESCRIPTION:Friday\, June 24: 6:00-11PM 110 Avenue of the Pines\, Saratoga Springs\, NY Join us in a dual celebration as we open our new feature exhibition\, "Shifting Through the Creative Life of Sam Posey\," and applaud the growth of our Distracted Driving Program\, now in its second year. Our Guest of Honor Sam Posey will be joined by a group of special friends to tell stories and join us in opening our new Exhibition: Shifting Through the Creative Life of Sam Posey.
X-ALT-DESC;FMTTYPE=text/html:Friday\, June 24: 6:00-11PM 110 Avenue of the Pines\, Saratoga Springs\, NY Join us in a dual celebration as we open our new feature exhibition\, &quot\;Shifting Through the Creative Life of Sam Posey\,&quot\; and applaud the growth of our Distracted Driving Program\, now in its second year. Our Guest of Honor Sam Posey will be joined by a group of special friends to tell stories and join us in opening our new Exhibition: Shifting Through the Creative Life of Sam Posey.
LOCATION:Saratoga Automobile Museum 110 Ave of the Pines Saratoga Springs\, NY 12866
UID:e.2254.16882
SEQUENCE:3
DTSTAMP:20260421T091244Z
URL:https://chamber.saratoga.org/events/details/sam-summer-gala-06-24-2016-16882
END:VEVENT

END:VCALENDAR
