BEGIN:VCALENDAR
VERSION:2.0
PRODID:-//ChamberMaster//Event Calendar 2.0//EN
METHOD:PUBLISH
X-PUBLISHED-TTL:P3D
REFRESH-INTERVAL:P3D
CALSCALE:GREGORIAN
BEGIN:VEVENT
DTSTART:20140819T193000Z
DTEND:20140819T213000Z
X-MICROSOFT-CDO-ALLDAYEVENT:FALSE
SUMMARY:Salute to our Hometown Heroes - 08/19/2014
DESCRIPTION:Salute our Hometown HeroesOn August 19th\, from 5:30pm to 7:30pm the Glennpeter Jewelry Diamond Center in Colonie\, will be hosting a fund raiser for Patriot Hills of New York.  We are very excited to have a great band Acoustic Fire\, Dirt Race Car driver Aaron Burton and other local artists to join us in our Salute.  We will also be honoring a local Hometown Hero.  The event is free\, but a donation at the door would be awesome. Email us at: Info@patriothills.org if you would like to join us. Or check our website: www.patriothills.org for more information
X-ALT-DESC;FMTTYPE=text/html:<p>Salute our Hometown Heroes</p><p style="text-align: center\;"><b>On August 19th\, from 5:30pm to 7:30pm the Glennpeter Jewelry Diamond Center in Colonie\, will be hosting a fund raiser for Patriot Hills of New York. &nbsp\;</b></p><p style="text-align: center\;"><b>We are very excited to have a great band Acoustic Fire\, Dirt Race Car driver Aaron Burton and other local artists to join us in our Salute. &nbsp\;</b></p><p style="text-align: center\;"><b>We will also be honoring a local Hometown Hero. &nbsp\;The event is free\, but a donation at the door would be awesome.&nbsp\;</b></p><p style="text-align: center\;"><b>Email us at: Info@patriothills.org if you would like to join us.&nbsp\;</b></p><p style="text-align: center\;"><b>Or check our website: www.patriothills.org for more information &nbsp\;&nbsp\;</b></p><p style="text-align: center\;"><b><br></b></p>
LOCATION:GLENNPETER JEWELERS
UID:e.2254.3491
SEQUENCE:3
DTSTAMP:20260424T160117Z
URL:https://chamber.saratoga.org/events/details/salute-to-our-hometown-heroes-08-19-2014-08-19-2014-3491
END:VEVENT

END:VCALENDAR
