BEGIN:VCALENDAR
VERSION:2.0
PRODID:-//ChamberMaster//Event Calendar 2.0//EN
METHOD:PUBLISH
X-PUBLISHED-TTL:P3D
REFRESH-INTERVAL:P3D
CALSCALE:GREGORIAN
BEGIN:VEVENT
DTSTART:20150508T143000Z
DTEND:20150508T160000Z
X-MICROSOFT-CDO-ALLDAYEVENT:FALSE
SUMMARY:Salamander Search
DESCRIPTION:Help us search for salamanders! We will learn about the different types of salamanders found in Saratoga Spa State Park\, their lifecycles\, and other interesting facts about these amphibians. This program is recommended for children ages 12 and under. Registration is required. Fee is $3 per person or $5 per family. Please call 518-584-2000 Ext. 150 to register.
X-ALT-DESC;FMTTYPE=text/html:Help us search for salamanders! We will learn about the different types of salamanders found in Saratoga Spa State Park\, their lifecycles\, and other interesting facts about these amphibians. This program is recommended for children ages 12 and under. Registration is required. Fee is $3 per person or $5 per family. Please call 518-584-2000 Ext. 150 to register.
LOCATION:Saratoga Spa State Park
UID:e.2254.8324
SEQUENCE:3
DTSTAMP:20260423T170307Z
URL:https://chamber.saratoga.org/events/details/salamander-search-05-08-2015-8324
END:VEVENT

END:VCALENDAR
