BEGIN:VCALENDAR
VERSION:2.0
PRODID:-//ChamberMaster//Event Calendar 2.0//EN
METHOD:PUBLISH
X-PUBLISHED-TTL:P3D
REFRESH-INTERVAL:P3D
CALSCALE:GREGORIAN
BEGIN:VEVENT
DTSTART:20160829T130000Z
DTEND:20160830T200000Z
X-MICROSOFT-CDO-ALLDAYEVENT:FALSE
SUMMARY:Sagamore Ottoman or End Table with Larry Benjamin. #980-0829. 2 days. August 29&30.
DESCRIPTION:In this class\, students will learn steam bending as well as the cold lamination process of bending wood with local Adirondack Red Oak to create a beautiful ottoman or end table in the style of the Sagamore Chair. A perfect accompaniment to the chair\, or a lovely addition to any camp or home on its own. Some prior woodworking experience is helpful\, but beginners are welcome too.
X-ALT-DESC;FMTTYPE=text/html:<pre>\n<span style="font-size:12pt"><span style="font-family:arial\,sans-serif"><span style="color:black">In this class\, students will learn steam bending as well as the cold lamination process of bending wood with local Adirondack Red Oak to create a beautiful ottoman or end table in the style of the Sagamore Chair. A perfect accompaniment to the chair\, or a lovely addition to any camp or home on its own. Some prior woodworking experience is helpful\, but beginners are welcome too.</span></span></span></pre>\n\n<pre>\n&nbsp\;</pre>\n
LOCATION:Adirondack Folk School 51 Main Street Lake Luzerne\, NY 12846
UID:e.2254.16121
SEQUENCE:3
DTSTAMP:20260421T020719Z
URL:https://chamber.saratoga.org/events/details/sagamore-ottoman-or-end-table-with-larry-benjamin-980-0829-2-days-august-29-30-08-29-2016-16121
END:VEVENT

END:VCALENDAR
