BEGIN:VCALENDAR
VERSION:2.0
PRODID:-//ChamberMaster//Event Calendar 2.0//EN
METHOD:PUBLISH
X-PUBLISHED-TTL:P3D
REFRESH-INTERVAL:P3D
CALSCALE:GREGORIAN
BEGIN:VEVENT
DTSTART:20150121T124500Z
DTEND:20150122T020000Z
X-MICROSOFT-CDO-ALLDAYEVENT:FALSE
SUMMARY:Safety Consortium: Raising Awareness About Lyme Disease
DESCRIPTION:If you\, or any of your co-workers/employees\, work outside on a daily basis\, be sure to join us for this very important and insightful discussion about Lyme disease. According to the Center for Disease Control\, approximately 300\,000 people are infected with Lyme disease each year. With a high probability of contracting it\, along with the risks and side effects that it brings\, it is critical for you and your employees to be fully aware of it. Trudy Keys\, an Executive Assistant who will talk about how contracting Lyme disease has turned her world upside down.
X-ALT-DESC;FMTTYPE=text/html:<p>If you\, or any of your co-workers/employees\, work outside on a daily basis\, be sure to join us for this very important and insightful discussion about Lyme disease. According to the Center for Disease Control\, approximately 300\,000 people are infected with Lyme disease each year. With a high probability of contracting it\, along with the risks and side effects that it brings\, it is critical for you and your employees to be fully aware of it. Trudy Keys\, an Executive Assistant who will talk about how contracting Lyme disease has turned her world upside down.</p>\n
LOCATION:Saratoga County Chamber Offices 28 Clinton Street Saratoga Springs\, NY 12866
UID:e.2254.941
SEQUENCE:3
DTSTAMP:20260424T015210Z
URL:https://chamber.saratoga.org/events/details/safety-consortium-raising-awareness-about-lyme-disease-01-21-2015-941
END:VEVENT

END:VCALENDAR
