BEGIN:VCALENDAR
VERSION:2.0
PRODID:-//ChamberMaster//Event Calendar 2.0//EN
METHOD:PUBLISH
X-PUBLISHED-TTL:P3D
REFRESH-INTERVAL:P3D
CALSCALE:GREGORIAN
BEGIN:VEVENT
DTSTART:20161016T160000Z
DTEND:20161016T200000Z
X-MICROSOFT-CDO-ALLDAYEVENT:FALSE
SUMMARY:Rugs from Rags with Caroline Dvorak. #933-1016.
DESCRIPTION:Fabric remnants will be used to make a 24"x30" rug. Students will have a choice of making a "Sock Rug"\, using loopers from a sock factory\, or making "Shag Rugs" using fringe remnants. No weaving experience is necessary. The looms are dressed and ready to go\, all you need to bring is your creative spirit and leave with a finished one-of-a-kind rag rug.
X-ALT-DESC;FMTTYPE=text/html:<pre>\n<span style="color:black"><span style="font-family:arial\,sans-serif"><span style="font-size:12.0pt">Fabric remnants will be used to make a 24&quot\;x30&quot\; rug. Students will have a choice of making a &quot\;Sock Rug&quot\;\, using loopers from a sock factory\, or making &quot\;Shag Rugs&quot\; using fringe remnants. No weaving experience is necessary. The looms are dressed and ready to go\, all you need to bring is your creative spirit and leave with a finished one-of-a-kind rag rug.</span></span></span></pre>\n
LOCATION:Adirondack Folk School 51 Main Street Lake Luzerne\, NY 12846
UID:e.2254.16996
SEQUENCE:3
DTSTAMP:20260420T232108Z
URL:https://chamber.saratoga.org/events/details/rugs-from-rags-with-caroline-dvorak-933-1016-10-16-2016-16996
END:VEVENT

END:VCALENDAR
